BEGIN:VCALENDAR
VERSION:2.0
PRODID:-//Connors State College - ECPv6.15.20//NONSGML v1.0//EN
CALSCALE:GREGORIAN
METHOD:PUBLISH
X-ORIGINAL-URL:https://www.connorsstate.edu
X-WR-CALDESC:Events for Connors State College
REFRESH-INTERVAL;VALUE=DURATION:PT1H
X-Robots-Tag:noindex
X-PUBLISHED-TTL:PT1H
BEGIN:VTIMEZONE
TZID:America/Chicago
BEGIN:DAYLIGHT
TZOFFSETFROM:-0600
TZOFFSETTO:-0500
TZNAME:CDT
DTSTART:20200308T080000
END:DAYLIGHT
BEGIN:STANDARD
TZOFFSETFROM:-0500
TZOFFSETTO:-0600
TZNAME:CST
DTSTART:20201101T070000
END:STANDARD
BEGIN:DAYLIGHT
TZOFFSETFROM:-0600
TZOFFSETTO:-0500
TZNAME:CDT
DTSTART:20210314T080000
END:DAYLIGHT
BEGIN:STANDARD
TZOFFSETFROM:-0500
TZOFFSETTO:-0600
TZNAME:CST
DTSTART:20211107T070000
END:STANDARD
BEGIN:DAYLIGHT
TZOFFSETFROM:-0600
TZOFFSETTO:-0500
TZNAME:CDT
DTSTART:20220313T080000
END:DAYLIGHT
BEGIN:STANDARD
TZOFFSETFROM:-0500
TZOFFSETTO:-0600
TZNAME:CST
DTSTART:20221106T070000
END:STANDARD
END:VTIMEZONE
BEGIN:VEVENT
DTSTART;TZID=America/Chicago:20210604T080000
DTEND;TZID=America/Chicago:20210604T170000
DTSTAMP:20260423T121004
CREATED:20210524T194857Z
LAST-MODIFIED:20210524T194926Z
UID:23709-1622793600-1622826000@www.connorsstate.edu
SUMMARY:Campus Closed
DESCRIPTION:
URL:https://www.connorsstate.edu/event/campus-closed-2/
LOCATION:OK
END:VEVENT
BEGIN:VEVENT
DTSTART;TZID=America/Chicago:20210607T080000
DTEND;TZID=America/Chicago:20210607T170000
DTSTAMP:20260423T121004
CREATED:20210524T195232Z
LAST-MODIFIED:20210524T195416Z
UID:23729-1623052800-1623085200@www.connorsstate.edu
SUMMARY:Summer Classes Begin
DESCRIPTION:
URL:https://www.connorsstate.edu/event/campus-closed-11/
LOCATION:OK
END:VEVENT
BEGIN:VEVENT
DTSTART;TZID=America/Chicago:20210610T080000
DTEND;TZID=America/Chicago:20210610T170000
DTSTAMP:20260423T121004
CREATED:20210524T195630Z
LAST-MODIFIED:20210524T195630Z
UID:23737-1623312000-1623344400@www.connorsstate.edu
SUMMARY:Last Day to Drop/Add Summer Classes
DESCRIPTION:
URL:https://www.connorsstate.edu/event/last-day-to-drop-add-summer-classes/
LOCATION:OK
END:VEVENT
BEGIN:VEVENT
DTSTART;TZID=America/Chicago:20210611T080000
DTEND;TZID=America/Chicago:20210611T170000
DTSTAMP:20260423T121004
CREATED:20210524T195008Z
LAST-MODIFIED:20210524T195008Z
UID:23713-1623398400-1623430800@www.connorsstate.edu
SUMMARY:Campus Closed
DESCRIPTION:
URL:https://www.connorsstate.edu/event/campus-closed-4/
LOCATION:OK
END:VEVENT
BEGIN:VEVENT
DTSTART;TZID=America/Chicago:20210618T080000
DTEND;TZID=America/Chicago:20210618T170000
DTSTAMP:20260423T121004
CREATED:20210524T195023Z
LAST-MODIFIED:20210524T195023Z
UID:23715-1624003200-1624035600@www.connorsstate.edu
SUMMARY:Campus Closed
DESCRIPTION:
URL:https://www.connorsstate.edu/event/campus-closed-5/
LOCATION:OK
END:VEVENT
BEGIN:VEVENT
DTSTART;TZID=America/Chicago:20210625T080000
DTEND;TZID=America/Chicago:20210625T170000
DTSTAMP:20260423T121004
CREATED:20210524T195039Z
LAST-MODIFIED:20210524T195039Z
UID:23717-1624608000-1624640400@www.connorsstate.edu
SUMMARY:Campus Closed
DESCRIPTION:
URL:https://www.connorsstate.edu/event/campus-closed-6/
LOCATION:OK
END:VEVENT
END:VCALENDAR