BEGIN:VCALENDAR
VERSION:2.0
PRODID:-//Connors State College - ECPv6.15.20//NONSGML v1.0//EN
CALSCALE:GREGORIAN
METHOD:PUBLISH
X-ORIGINAL-URL:https://www.connorsstate.edu
X-WR-CALDESC:Events for Connors State College
REFRESH-INTERVAL;VALUE=DURATION:PT1H
X-Robots-Tag:noindex
X-PUBLISHED-TTL:PT1H
BEGIN:VTIMEZONE
TZID:America/Chicago
BEGIN:DAYLIGHT
TZOFFSETFROM:-0600
TZOFFSETTO:-0500
TZNAME:CDT
DTSTART:20190310T080000
END:DAYLIGHT
BEGIN:STANDARD
TZOFFSETFROM:-0500
TZOFFSETTO:-0600
TZNAME:CST
DTSTART:20191103T070000
END:STANDARD
BEGIN:DAYLIGHT
TZOFFSETFROM:-0600
TZOFFSETTO:-0500
TZNAME:CDT
DTSTART:20200308T080000
END:DAYLIGHT
BEGIN:STANDARD
TZOFFSETFROM:-0500
TZOFFSETTO:-0600
TZNAME:CST
DTSTART:20201101T070000
END:STANDARD
BEGIN:DAYLIGHT
TZOFFSETFROM:-0600
TZOFFSETTO:-0500
TZNAME:CDT
DTSTART:20210314T080000
END:DAYLIGHT
BEGIN:STANDARD
TZOFFSETFROM:-0500
TZOFFSETTO:-0600
TZNAME:CST
DTSTART:20211107T070000
END:STANDARD
BEGIN:DAYLIGHT
TZOFFSETFROM:-0600
TZOFFSETTO:-0500
TZNAME:CDT
DTSTART:20220313T080000
END:DAYLIGHT
BEGIN:STANDARD
TZOFFSETFROM:-0500
TZOFFSETTO:-0600
TZNAME:CST
DTSTART:20221106T070000
END:STANDARD
END:VTIMEZONE
BEGIN:VEVENT
DTSTART;VALUE=DATE:20201221
DTEND;VALUE=DATE:20210102
DTSTAMP:20260423T045826
CREATED:20201117T193241Z
LAST-MODIFIED:20210211T160545Z
UID:21760-1608508800-1609545599@www.connorsstate.edu
SUMMARY:Campus Closed
DESCRIPTION:
URL:https://www.connorsstate.edu/event/campus-closed/
LOCATION:OK
END:VEVENT
BEGIN:VEVENT
DTSTART;VALUE=DATE:20210115
DTEND;VALUE=DATE:20210116
DTSTAMP:20260423T045826
CREATED:20201117T203440Z
LAST-MODIFIED:20210211T160545Z
UID:21798-1610668800-1610755199@www.connorsstate.edu
SUMMARY:Last Day to Enroll or Add Classes for 1st 8 Weeks
DESCRIPTION:
URL:https://www.connorsstate.edu/event/last-day-to-enroll-or-add-classes-for-1st-8-weeks/
LOCATION:OK
END:VEVENT
BEGIN:VEVENT
DTSTART;VALUE=DATE:20210115
DTEND;VALUE=DATE:20210116
DTSTAMP:20260423T045826
CREATED:20201117T203711Z
LAST-MODIFIED:20210211T160545Z
UID:21800-1610668800-1610755199@www.connorsstate.edu
SUMMARY:Last Day to Drop a Course Without a Transcript Record and Receive a 100% Refund
DESCRIPTION:
URL:https://www.connorsstate.edu/event/last-day-to-drop-a-course-without-a-transcript-record-and-receive-a-100-refund-2/
LOCATION:OK
END:VEVENT
BEGIN:VEVENT
DTSTART;VALUE=DATE:20210118
DTEND;VALUE=DATE:20210119
DTSTAMP:20260423T045826
CREATED:20201117T193412Z
LAST-MODIFIED:20210211T160545Z
UID:21762-1610928000-1611014399@www.connorsstate.edu
SUMMARY:Martin Luther King Day
DESCRIPTION:
URL:https://www.connorsstate.edu/event/martin-luther-king-day/
LOCATION:OK
END:VEVENT
BEGIN:VEVENT
DTSTART;VALUE=DATE:20210122
DTEND;VALUE=DATE:20210123
DTSTAMP:20260423T045826
CREATED:20201117T200619Z
LAST-MODIFIED:20210211T160545Z
UID:21772-1611273600-1611359999@www.connorsstate.edu
SUMMARY:Last Day to Enroll or Add Classes
DESCRIPTION:
URL:https://www.connorsstate.edu/event/spring-semester-begins/
LOCATION:OK
END:VEVENT
BEGIN:VEVENT
DTSTART;VALUE=DATE:20210122
DTEND;VALUE=DATE:20210123
DTSTAMP:20260423T045826
CREATED:20201117T202531Z
LAST-MODIFIED:20210211T160545Z
UID:21784-1611273600-1611359999@www.connorsstate.edu
SUMMARY:Last Day to Drop a Course Without a Transcript Record and Receive 100% Refund
DESCRIPTION:
URL:https://www.connorsstate.edu/event/last-day-to-drop-a-course-without-a-transcript-record-and-receive-100-refund/
LOCATION:OK
END:VEVENT
BEGIN:VEVENT
DTSTART;VALUE=DATE:20210122
DTEND;VALUE=DATE:20210123
DTSTAMP:20260423T045826
CREATED:20201117T202718Z
LAST-MODIFIED:20210211T160545Z
UID:21786-1611273600-1611359999@www.connorsstate.edu
SUMMARY:Last Day to Withdraw Completely from the College and Receive a 100% Refund
DESCRIPTION:
URL:https://www.connorsstate.edu/event/last-day-to-withdraw-completely-from-the-college-and-receive-a-100-refund/
LOCATION:OK
END:VEVENT
BEGIN:VEVENT
DTSTART;TZID=America/Chicago:20210128T170000
DTEND;TZID=America/Chicago:20210128T220000
DTSTAMP:20260423T045826
CREATED:20210128T151831Z
LAST-MODIFIED:20210211T160545Z
UID:22315-1611853200-1611871200@www.connorsstate.edu
SUMMARY:Women's & Men's Basketball
DESCRIPTION:
URL:https://www.connorsstate.edu/event/womens-mens-basketball/
LOCATION:OK
END:VEVENT
BEGIN:VEVENT
DTSTART;TZID=America/Chicago:20210130T160000
DTEND;TZID=America/Chicago:20210130T190000
DTSTAMP:20260423T045826
CREATED:20210128T152508Z
LAST-MODIFIED:20210211T160545Z
UID:22320-1612022400-1612033200@www.connorsstate.edu
SUMMARY:CSC Movie Night Apex Theater Muskogee
DESCRIPTION:
URL:https://www.connorsstate.edu/event/csc-plc-movie-night-apex-theater-muskogee/
LOCATION:Apex Theater Muskogee\, 2812 West Shawnee Street\, Muskogee\, OK\, 74469\, United States
END:VEVENT
BEGIN:VEVENT
DTSTART;TZID=America/Chicago:20210130T180000
DTEND;TZID=America/Chicago:20210130T220000
DTSTAMP:20260423T045826
CREATED:20210128T152825Z
LAST-MODIFIED:20210211T160545Z
UID:22331-1612029600-1612044000@www.connorsstate.edu
SUMMARY:Baseball Opening Day Bash Live Auction
DESCRIPTION:
URL:https://www.connorsstate.edu/event/baseball-opening-day-bash-live-auction/
LOCATION:OK
END:VEVENT
END:VCALENDAR