BEGIN:VCALENDAR
VERSION:2.0
PRODID:-//Connors State College - ECPv6.15.20//NONSGML v1.0//EN
CALSCALE:GREGORIAN
METHOD:PUBLISH
X-ORIGINAL-URL:https://www.connorsstate.edu
X-WR-CALDESC:Events for Connors State College
REFRESH-INTERVAL;VALUE=DURATION:PT1H
X-Robots-Tag:noindex
X-PUBLISHED-TTL:PT1H
BEGIN:VTIMEZONE
TZID:America/Chicago
BEGIN:DAYLIGHT
TZOFFSETFROM:-0600
TZOFFSETTO:-0500
TZNAME:CDT
DTSTART:20180311T080000
END:DAYLIGHT
BEGIN:STANDARD
TZOFFSETFROM:-0500
TZOFFSETTO:-0600
TZNAME:CST
DTSTART:20181104T070000
END:STANDARD
BEGIN:DAYLIGHT
TZOFFSETFROM:-0600
TZOFFSETTO:-0500
TZNAME:CDT
DTSTART:20190310T080000
END:DAYLIGHT
BEGIN:STANDARD
TZOFFSETFROM:-0500
TZOFFSETTO:-0600
TZNAME:CST
DTSTART:20191103T070000
END:STANDARD
BEGIN:DAYLIGHT
TZOFFSETFROM:-0600
TZOFFSETTO:-0500
TZNAME:CDT
DTSTART:20200308T080000
END:DAYLIGHT
BEGIN:STANDARD
TZOFFSETFROM:-0500
TZOFFSETTO:-0600
TZNAME:CST
DTSTART:20201101T070000
END:STANDARD
BEGIN:DAYLIGHT
TZOFFSETFROM:-0600
TZOFFSETTO:-0500
TZNAME:CDT
DTSTART:20210314T080000
END:DAYLIGHT
BEGIN:STANDARD
TZOFFSETFROM:-0500
TZOFFSETTO:-0600
TZNAME:CST
DTSTART:20211107T070000
END:STANDARD
END:VTIMEZONE
BEGIN:VEVENT
DTSTART;VALUE=DATE:20191224
DTEND;VALUE=DATE:20200106
DTSTAMP:20260422T152842
CREATED:20191212T202219Z
LAST-MODIFIED:20210211T160555Z
UID:18473-1577145600-1578268799@www.connorsstate.edu
SUMMARY:CSC OFFICES CLOSED
DESCRIPTION:
URL:https://www.connorsstate.edu/event/csc-offices-closed/
LOCATION:OK
END:VEVENT
BEGIN:VEVENT
DTSTART;VALUE=DATE:20200107
DTEND;VALUE=DATE:20200110
DTSTAMP:20260422T152842
CREATED:20191217T230207Z
LAST-MODIFIED:20210211T160555Z
UID:18483-1578355200-1578614399@www.connorsstate.edu
SUMMARY:Spring In-Service
DESCRIPTION:
URL:https://www.connorsstate.edu/event/spring-in-service/
LOCATION:OK
END:VEVENT
BEGIN:VEVENT
DTSTART;TZID=America/Chicago:20200114T170000
DTEND;TZID=America/Chicago:20200114T190000
DTSTAMP:20260422T152842
CREATED:20191217T225550Z
LAST-MODIFIED:20210211T160555Z
UID:18481-1579021200-1579028400@www.connorsstate.edu
SUMMARY:Residual ACT Testing
DESCRIPTION:
URL:https://www.connorsstate.edu/event/residual-act-testing/
LOCATION:OK
END:VEVENT
BEGIN:VEVENT
DTSTART;VALUE=DATE:20200117
DTEND;VALUE=DATE:20200118
DTSTAMP:20260422T152842
CREATED:20200128T221603Z
LAST-MODIFIED:20210211T160555Z
UID:18660-1579219200-1579305599@www.connorsstate.edu
SUMMARY:Last Day to Enroll or Add Classes (1st 8-week)
DESCRIPTION:
URL:https://www.connorsstate.edu/event/last-day-to-enroll-or-add-classes-first-eight-week/
LOCATION:OK
END:VEVENT
BEGIN:VEVENT
DTSTART;VALUE=DATE:20200117
DTEND;VALUE=DATE:20200118
DTSTAMP:20260422T152842
CREATED:20200128T221657Z
LAST-MODIFIED:20210211T160555Z
UID:18662-1579219200-1579305599@www.connorsstate.edu
SUMMARY:Last Day to Drop a Course Without a Transcript Record and Receive a 100% Refund (1st 8-week classes)
DESCRIPTION:
URL:https://www.connorsstate.edu/event/last-day-to-drop-a-course-without-a-transcript-record-and-receive-a-100-refund/
LOCATION:OK
END:VEVENT
BEGIN:VEVENT
DTSTART;VALUE=DATE:20200120
DTEND;VALUE=DATE:20200121
DTSTAMP:20260422T152842
CREATED:20200128T220411Z
LAST-MODIFIED:20210211T160555Z
UID:18648-1579478400-1579564799@www.connorsstate.edu
SUMMARY:Martin Luther King Day (ALL campuses closed)
DESCRIPTION:
URL:https://www.connorsstate.edu/event/martin-luther-king-day-all-campuses-closed/
LOCATION:OK
END:VEVENT
BEGIN:VEVENT
DTSTART;VALUE=DATE:20200124
DTEND;VALUE=DATE:20200125
DTSTAMP:20260422T152842
CREATED:20200128T215705Z
LAST-MODIFIED:20210211T160555Z
UID:18640-1579824000-1579910399@www.connorsstate.edu
SUMMARY:Last Day to Enroll or Add Classes (Full Semester)
DESCRIPTION:
URL:https://www.connorsstate.edu/event/last-day-to-enroll-or-add-classes-full-semester/
LOCATION:OK
END:VEVENT
BEGIN:VEVENT
DTSTART;VALUE=DATE:20200124
DTEND;VALUE=DATE:20200125
DTSTAMP:20260422T152842
CREATED:20200128T220014Z
LAST-MODIFIED:20210211T160555Z
UID:18642-1579824000-1579910399@www.connorsstate.edu
SUMMARY:Last Day to Drop a Course Without a Transcript and Receive a 100% Refund
DESCRIPTION:
URL:https://www.connorsstate.edu/event/last-day-to-drop-a-course-without-a-transcript-and-recieve-a-100-refund/
LOCATION:OK
END:VEVENT
BEGIN:VEVENT
DTSTART;VALUE=DATE:20200124
DTEND;VALUE=DATE:20200125
DTSTAMP:20260422T152842
CREATED:20200128T220146Z
LAST-MODIFIED:20210211T160555Z
UID:18644-1579824000-1579910399@www.connorsstate.edu
SUMMARY:Last Day to Withdraw Completely from the College and Receive a 100% Refund
DESCRIPTION:
URL:https://www.connorsstate.edu/event/last-day-to-withdraw-completely-from-the-college-and-recieve-a-100-refund/
LOCATION:OK
END:VEVENT
END:VCALENDAR