BEGIN:VCALENDAR
VERSION:2.0
PRODID:-//Connors State College - ECPv6.15.17.1//NONSGML v1.0//EN
CALSCALE:GREGORIAN
METHOD:PUBLISH
X-ORIGINAL-URL:https://www.connorsstate.edu
X-WR-CALDESC:Events for Connors State College
REFRESH-INTERVAL;VALUE=DURATION:PT1H
X-Robots-Tag:noindex
X-PUBLISHED-TTL:PT1H
BEGIN:VTIMEZONE
TZID:America/Chicago
BEGIN:DAYLIGHT
TZOFFSETFROM:-0600
TZOFFSETTO:-0500
TZNAME:CDT
DTSTART:20250309T080000
END:DAYLIGHT
BEGIN:STANDARD
TZOFFSETFROM:-0500
TZOFFSETTO:-0600
TZNAME:CST
DTSTART:20251102T070000
END:STANDARD
BEGIN:DAYLIGHT
TZOFFSETFROM:-0600
TZOFFSETTO:-0500
TZNAME:CDT
DTSTART:20260308T080000
END:DAYLIGHT
BEGIN:STANDARD
TZOFFSETFROM:-0500
TZOFFSETTO:-0600
TZNAME:CST
DTSTART:20261101T070000
END:STANDARD
BEGIN:DAYLIGHT
TZOFFSETFROM:-0600
TZOFFSETTO:-0500
TZNAME:CDT
DTSTART:20270314T080000
END:DAYLIGHT
BEGIN:STANDARD
TZOFFSETFROM:-0500
TZOFFSETTO:-0600
TZNAME:CST
DTSTART:20271107T070000
END:STANDARD
END:VTIMEZONE
BEGIN:VEVENT
DTSTART;VALUE=DATE:20260513
DTEND;VALUE=DATE:20260517
DTSTAMP:20260421T111100
CREATED:20260114T163543Z
LAST-MODIFIED:20260114T163543Z
UID:58234-1778630400-1778975999@www.connorsstate.edu
SUMMARY:Region II Softball Tournament
DESCRIPTION:Shawnee\, OK
URL:https://www.connorsstate.edu/event/region-ii-softball-tournament/
LOCATION:OK
ORGANIZER;CN="Coach Bobby Foreman":MAILTO:fbobby@connorsstate.edu
END:VEVENT
BEGIN:VEVENT
DTSTART;VALUE=DATE:20260515
DTEND;VALUE=DATE:20260517
DTSTAMP:20260421T111100
CREATED:20260113T192211Z
LAST-MODIFIED:20260113T192244Z
UID:57993-1778803200-1778975999@www.connorsstate.edu
SUMMARY:Southern Central District Baseball Playoffs
DESCRIPTION:TBA
URL:https://www.connorsstate.edu/event/southern-central-district-playoffs/
LOCATION:OK
END:VEVENT
END:VCALENDAR