BEGIN:VCALENDAR
VERSION:2.0
PRODID:-//Connors State College - ECPv6.15.20//NONSGML v1.0//EN
CALSCALE:GREGORIAN
METHOD:PUBLISH
X-WR-CALNAME:Connors State College
X-ORIGINAL-URL:https://www.connorsstate.edu
X-WR-CALDESC:Events for Connors State College
REFRESH-INTERVAL;VALUE=DURATION:PT1H
X-Robots-Tag:noindex
X-PUBLISHED-TTL:PT1H
BEGIN:VTIMEZONE
TZID:America/Chicago
BEGIN:DAYLIGHT
TZOFFSETFROM:-0600
TZOFFSETTO:-0500
TZNAME:CDT
DTSTART:20250309T080000
END:DAYLIGHT
BEGIN:STANDARD
TZOFFSETFROM:-0500
TZOFFSETTO:-0600
TZNAME:CST
DTSTART:20251102T070000
END:STANDARD
BEGIN:DAYLIGHT
TZOFFSETFROM:-0600
TZOFFSETTO:-0500
TZNAME:CDT
DTSTART:20260308T080000
END:DAYLIGHT
BEGIN:STANDARD
TZOFFSETFROM:-0500
TZOFFSETTO:-0600
TZNAME:CST
DTSTART:20261101T070000
END:STANDARD
BEGIN:DAYLIGHT
TZOFFSETFROM:-0600
TZOFFSETTO:-0500
TZNAME:CDT
DTSTART:20270314T080000
END:DAYLIGHT
BEGIN:STANDARD
TZOFFSETFROM:-0500
TZOFFSETTO:-0600
TZNAME:CST
DTSTART:20271107T070000
END:STANDARD
END:VTIMEZONE
BEGIN:VEVENT
DTSTART;VALUE=DATE:20260209
DTEND;VALUE=DATE:20260213
DTSTAMP:20260422T170740
CREATED:20260209T142750Z
LAST-MODIFIED:20260209T142750Z
UID:59141-1770595200-1770940799@www.connorsstate.edu
SUMMARY:NAACP Coloring Contest
DESCRIPTION:
URL:https://www.connorsstate.edu/event/naacp-coloring-contest/
LOCATION:Both Campuses
ORGANIZER;CN="Carneta Cooper":MAILTO:carneta.cooper@connorsstate.edu
END:VEVENT
BEGIN:VEVENT
DTSTART;VALUE=DATE:20260209
DTEND;VALUE=DATE:20260214
DTSTAMP:20260422T170740
CREATED:20260122T163523Z
LAST-MODIFIED:20260122T163523Z
UID:58702-1770595200-1771027199@www.connorsstate.edu
SUMMARY:Library Event-Valentine Craft Event
DESCRIPTION:
URL:https://www.connorsstate.edu/event/library-event-valentine-craft-event/
LOCATION:Both Campuses
ORGANIZER;CN="Ona Britton-Spears":MAILTO:ona.britton-spears@connorsstate.edu
END:VEVENT
BEGIN:VEVENT
DTSTART;VALUE=DATE:20260212
DTEND;VALUE=DATE:20260215
DTSTAMP:20260422T170740
CREATED:20260203T153816Z
LAST-MODIFIED:20260203T153816Z
UID:59043-1770854400-1771113599@www.connorsstate.edu
SUMMARY:CSC-LJT- Dixie National
DESCRIPTION:Jackson\, MS
URL:https://www.connorsstate.edu/event/csc-ljt-dixie-national/
LOCATION:OK
ORGANIZER;CN="Daniel Lujan":MAILTO:daniel.lujan@connorsstate.edu
END:VEVENT
BEGIN:VEVENT
DTSTART;TZID=America/Chicago:20260212T130000
DTEND;TZID=America/Chicago:20260212T160000
DTSTAMP:20260422T170740
CREATED:20260113T220740Z
LAST-MODIFIED:20260113T220740Z
UID:58013-1770901200-1770912000@www.connorsstate.edu
SUMMARY:CSC Softball vs Southwest Christian
DESCRIPTION:
URL:https://www.connorsstate.edu/event/csc-softball-vs-southwest-christian/
LOCATION:Softball Field\, 700 College Rd\, Warner\, OK\, 74469\, United States
ORGANIZER;CN="Coach Bobby Foreman":MAILTO:fbobby@connorsstate.edu
END:VEVENT
BEGIN:VEVENT
DTSTART;TZID=America/Chicago:20260212T140000
DTEND;TZID=America/Chicago:20260212T170000
DTSTAMP:20260422T170740
CREATED:20260113T181355Z
LAST-MODIFIED:20260113T181355Z
UID:57910-1770904800-1770915600@www.connorsstate.edu
SUMMARY:CSC Baseball @ Murray State
DESCRIPTION:Tishomingo\, OK
URL:https://www.connorsstate.edu/event/csc-baseball-murray-state/
LOCATION:OK
END:VEVENT
BEGIN:VEVENT
DTSTART;TZID=America/Chicago:20260212T173000
DTEND;TZID=America/Chicago:20260212T190000
DTSTAMP:20260422T170740
CREATED:20250904T163419Z
LAST-MODIFIED:20250904T164133Z
UID:49015-1770917400-1770922800@www.connorsstate.edu
SUMMARY:CSC Women’s Basketball vs Eastern OK State
DESCRIPTION:
URL:https://www.connorsstate.edu/event/csc-womens-basketball-vs-eastern-ok-state-2/
LOCATION:Melvin Self Fieldhouse\, 700 College Rd\, Warner\, OK\, 74469\, United States
ORGANIZER;CN="Coach Jaylen Thompson":MAILTO:jaylen.thompson@connorsstate.edu
END:VEVENT
BEGIN:VEVENT
DTSTART;TZID=America/Chicago:20260212T190000
DTEND;TZID=America/Chicago:20260212T193000
DTSTAMP:20260422T170740
CREATED:20260209T143740Z
LAST-MODIFIED:20260209T143740Z
UID:59151-1770922800-1770924600@www.connorsstate.edu
SUMMARY:ALL- School Homecoming
DESCRIPTION:
URL:https://www.connorsstate.edu/event/all-school-homecoming-2/
LOCATION:Melvin Self Fieldhouse\, 700 College Rd\, Warner\, OK\, 74469\, United States
ORGANIZER;CN="Christian Jones":MAILTO:cjones51@connorsstate.edu
END:VEVENT
BEGIN:VEVENT
DTSTART;TZID=America/Chicago:20260212T193000
DTEND;TZID=America/Chicago:20260212T210000
DTSTAMP:20260422T170740
CREATED:20250904T163500Z
LAST-MODIFIED:20260112T220558Z
UID:49017-1770924600-1770930000@www.connorsstate.edu
SUMMARY:CSC Men’s Basketball vs Eastern OK State
DESCRIPTION:
URL:https://www.connorsstate.edu/event/csc-mens-basketball-vs-eastern-ok-state-2/
LOCATION:Melvin Self Fieldhouse\, 700 College Rd\, Warner\, OK\, 74469\, United States
ORGANIZER;CN="Coach Jaylen Thompson":MAILTO:jaylen.thompson@connorsstate.edu
END:VEVENT
END:VCALENDAR