BEGIN:VCALENDAR
VERSION:2.0
PRODID:-//Connors State College - ECPv6.15.20//NONSGML v1.0//EN
CALSCALE:GREGORIAN
METHOD:PUBLISH
X-ORIGINAL-URL:https://www.connorsstate.edu
X-WR-CALDESC:Events for Connors State College
REFRESH-INTERVAL;VALUE=DURATION:PT1H
X-Robots-Tag:noindex
X-PUBLISHED-TTL:PT1H
BEGIN:VTIMEZONE
TZID:America/Chicago
BEGIN:DAYLIGHT
TZOFFSETFROM:-0600
TZOFFSETTO:-0500
TZNAME:CDT
DTSTART:20250309T080000
END:DAYLIGHT
BEGIN:STANDARD
TZOFFSETFROM:-0500
TZOFFSETTO:-0600
TZNAME:CST
DTSTART:20251102T070000
END:STANDARD
BEGIN:DAYLIGHT
TZOFFSETFROM:-0600
TZOFFSETTO:-0500
TZNAME:CDT
DTSTART:20260308T080000
END:DAYLIGHT
BEGIN:STANDARD
TZOFFSETFROM:-0500
TZOFFSETTO:-0600
TZNAME:CST
DTSTART:20261101T070000
END:STANDARD
BEGIN:DAYLIGHT
TZOFFSETFROM:-0600
TZOFFSETTO:-0500
TZNAME:CDT
DTSTART:20270314T080000
END:DAYLIGHT
BEGIN:STANDARD
TZOFFSETFROM:-0500
TZOFFSETTO:-0600
TZNAME:CST
DTSTART:20271107T070000
END:STANDARD
END:VTIMEZONE
BEGIN:VEVENT
DTSTART;VALUE=DATE:20260205
DTEND;VALUE=DATE:20260208
DTSTAMP:20260423T003526
CREATED:20250828T212522Z
LAST-MODIFIED:20250828T212522Z
UID:48804-1770249600-1770508799@www.connorsstate.edu
SUMMARY:CSC Cheer- NJCAA National Invitational
DESCRIPTION:Kansas City\, MO
URL:https://www.connorsstate.edu/event/csc-cheer-njcaa-national-invitational/
LOCATION:OK
ORGANIZER;CN="Coach Clint Maxcey":MAILTO:clint.maxcey@connorsstate.edu
END:VEVENT
BEGIN:VEVENT
DTSTART;TZID=America/Chicago:20260207T130000
DTEND;TZID=America/Chicago:20260207T160000
DTSTAMP:20260423T003526
CREATED:20260113T215646Z
LAST-MODIFIED:20260113T215646Z
UID:58009-1770469200-1770480000@www.connorsstate.edu
SUMMARY:CSC Softball @ National Park
DESCRIPTION:Hot Springs\, AR
URL:https://www.connorsstate.edu/event/csc-softball-national-park/
LOCATION:OK
ORGANIZER;CN="Coach Bobby Foreman":MAILTO:fbobby@connorsstate.edu
END:VEVENT
BEGIN:VEVENT
DTSTART;TZID=America/Chicago:20260207T130000
DTEND;TZID=America/Chicago:20260207T170000
DTSTAMP:20260423T003526
CREATED:20260113T181027Z
LAST-MODIFIED:20260113T181027Z
UID:57904-1770469200-1770483600@www.connorsstate.edu
SUMMARY:CSC Baseball vs TCS Postgrad- DH
DESCRIPTION:
URL:https://www.connorsstate.edu/event/csc-baseball-vs-tcs-postgrad-dh-5/
LOCATION:Biff Thompson Field at Perry Keith Park\, 700 College Rd\, Warner\, OK\, 74469\, United States
END:VEVENT
END:VCALENDAR