BEGIN:VCALENDAR
VERSION:2.0
PRODID:-//Connors State College - ECPv6.15.20//NONSGML v1.0//EN
CALSCALE:GREGORIAN
METHOD:PUBLISH
X-ORIGINAL-URL:https://www.connorsstate.edu
X-WR-CALDESC:Events for Connors State College
REFRESH-INTERVAL;VALUE=DURATION:PT1H
X-Robots-Tag:noindex
X-PUBLISHED-TTL:PT1H
BEGIN:VTIMEZONE
TZID:America/Chicago
BEGIN:DAYLIGHT
TZOFFSETFROM:-0600
TZOFFSETTO:-0500
TZNAME:CDT
DTSTART:20250309T080000
END:DAYLIGHT
BEGIN:STANDARD
TZOFFSETFROM:-0500
TZOFFSETTO:-0600
TZNAME:CST
DTSTART:20251102T070000
END:STANDARD
BEGIN:DAYLIGHT
TZOFFSETFROM:-0600
TZOFFSETTO:-0500
TZNAME:CDT
DTSTART:20260308T080000
END:DAYLIGHT
BEGIN:STANDARD
TZOFFSETFROM:-0500
TZOFFSETTO:-0600
TZNAME:CST
DTSTART:20261101T070000
END:STANDARD
BEGIN:DAYLIGHT
TZOFFSETFROM:-0600
TZOFFSETTO:-0500
TZNAME:CDT
DTSTART:20270314T080000
END:DAYLIGHT
BEGIN:STANDARD
TZOFFSETFROM:-0500
TZOFFSETTO:-0600
TZNAME:CST
DTSTART:20271107T070000
END:STANDARD
END:VTIMEZONE
BEGIN:VEVENT
DTSTART;VALUE=DATE:20260129
DTEND;VALUE=DATE:20260202
DTSTAMP:20260423T105014
CREATED:20250807T134032Z
LAST-MODIFIED:20250807T134032Z
UID:48257-1769644800-1769990399@www.connorsstate.edu
SUMMARY:CSC Shotgun Shooting Sports- ACUI Lower Midwest
DESCRIPTION:San Antonio\, TX
URL:https://www.connorsstate.edu/event/csc-shotgun-shooting-sports-acui-lower-midwest/
LOCATION:OK
ORGANIZER;CN="Nick Hayes":MAILTO:nick.hayes@connorsstate.edu
END:VEVENT
BEGIN:VEVENT
DTSTART;VALUE=DATE:20260129
DTEND;VALUE=DATE:20260202
DTSTAMP:20260423T105014
CREATED:20260114T172043Z
LAST-MODIFIED:20260114T172043Z
UID:58242-1769644800-1769990399@www.connorsstate.edu
SUMMARY:CSC Archery - USA Archery Indoor Nationals
DESCRIPTION:Owensboro\, KY
URL:https://www.connorsstate.edu/event/csc-archery-usa-archery-indoor-nationals/
LOCATION:OK
ORGANIZER;CN="Coach Johnny King":MAILTO:john.king10@connorsstate.edu
END:VEVENT
BEGIN:VEVENT
DTSTART;TZID=America/Chicago:20260131T140000
DTEND;TZID=America/Chicago:20260131T153000
DTSTAMP:20260423T105014
CREATED:20250904T161958Z
LAST-MODIFIED:20260128T160007Z
UID:49006-1769868000-1769873400@www.connorsstate.edu
SUMMARY:CSC Women’s Basketball vs Northern Oklahoma- Tonkawa
DESCRIPTION:
URL:https://www.connorsstate.edu/event/csc-womens-basketball-vs-northern-oklahoma-tonkawa/
LOCATION:Melvin Self Fieldhouse\, 700 College Rd\, Warner\, OK\, 74469\, United States
ORGANIZER;CN="Coach Jaylen Thompson":MAILTO:jaylen.thompson@connorsstate.edu
END:VEVENT
BEGIN:VEVENT
DTSTART;TZID=America/Chicago:20260131T160000
DTEND;TZID=America/Chicago:20260131T173000
DTSTAMP:20260423T105014
CREATED:20250904T162152Z
LAST-MODIFIED:20260128T160059Z
UID:49008-1769875200-1769880600@www.connorsstate.edu
SUMMARY:CSC Men’s Basketball vs Northern Oklahoma- Tonkawa
DESCRIPTION:
URL:https://www.connorsstate.edu/event/csc-mens-basketball-vs-northern-oklahoma-tonkawa-2/
LOCATION:Melvin Self Fieldhouse\, 700 College Rd\, Warner\, OK\, 74469\, United States
ORGANIZER;CN="Coach Jaylen Thompson":MAILTO:jaylen.thompson@connorsstate.edu
END:VEVENT
BEGIN:VEVENT
DTSTART;TZID=America/Chicago:20260131T180000
DTEND;TZID=America/Chicago:20260131T210000
DTSTAMP:20260423T105014
CREATED:20260113T163628Z
LAST-MODIFIED:20260128T160405Z
UID:57864-1769882400-1769893200@www.connorsstate.edu
SUMMARY:CSC Cowboys Baseball Opening Day Bash & Auction Fundraiser
DESCRIPTION:
URL:https://www.connorsstate.edu/event/csc-cowboys-baseball-opening-day-bash-auction-fundraiser/
LOCATION:CSC Student Union\, 700 College Rd\, Warner\, OK\, 74469\, United States
END:VEVENT
END:VCALENDAR