BEGIN:VCALENDAR
VERSION:2.0
PRODID:-//Connors State College - ECPv6.15.20//NONSGML v1.0//EN
CALSCALE:GREGORIAN
METHOD:PUBLISH
X-WR-CALNAME:Connors State College
X-ORIGINAL-URL:https://www.connorsstate.edu
X-WR-CALDESC:Events for Connors State College
REFRESH-INTERVAL;VALUE=DURATION:PT1H
X-Robots-Tag:noindex
X-PUBLISHED-TTL:PT1H
BEGIN:VTIMEZONE
TZID:America/Chicago
BEGIN:DAYLIGHT
TZOFFSETFROM:-0600
TZOFFSETTO:-0500
TZNAME:CDT
DTSTART:20240310T080000
END:DAYLIGHT
BEGIN:STANDARD
TZOFFSETFROM:-0500
TZOFFSETTO:-0600
TZNAME:CST
DTSTART:20241103T070000
END:STANDARD
BEGIN:DAYLIGHT
TZOFFSETFROM:-0600
TZOFFSETTO:-0500
TZNAME:CDT
DTSTART:20250309T080000
END:DAYLIGHT
BEGIN:STANDARD
TZOFFSETFROM:-0500
TZOFFSETTO:-0600
TZNAME:CST
DTSTART:20251102T070000
END:STANDARD
BEGIN:DAYLIGHT
TZOFFSETFROM:-0600
TZOFFSETTO:-0500
TZNAME:CDT
DTSTART:20260308T080000
END:DAYLIGHT
BEGIN:STANDARD
TZOFFSETFROM:-0500
TZOFFSETTO:-0600
TZNAME:CST
DTSTART:20261101T070000
END:STANDARD
END:VTIMEZONE
BEGIN:VEVENT
DTSTART;TZID=America/Chicago:20251022T120000
DTEND;TZID=America/Chicago:20251022T133000
DTSTAMP:20260423T175708
CREATED:20250806T171653Z
LAST-MODIFIED:20250806T171653Z
UID:48186-1761134400-1761139800@www.connorsstate.edu
SUMMARY:CSC Library- Research Seminar Series- Dr. Cynthia Keeton-Brown
DESCRIPTION:
URL:https://www.connorsstate.edu/event/csc-library-research-seminar-series-dr-cynthia-keeton-brown/
LOCATION:LLC Auditorium\, 700 College Rd\, Warner\, OK\, 74469\, United States
ORGANIZER;CN="Ona Britton-Spears":MAILTO:ona.britton-spears@connorsstate.edu
END:VEVENT
BEGIN:VEVENT
DTSTART;TZID=America/Chicago:20251022T120000
DTEND;TZID=America/Chicago:20251022T143000
DTSTAMP:20260423T175708
CREATED:20250805T182456Z
LAST-MODIFIED:20250805T182456Z
UID:48122-1761134400-1761143400@www.connorsstate.edu
SUMMARY:CSC Baseball @ Oklahoma Wesleyan University
DESCRIPTION:Pryor\, OK
URL:https://www.connorsstate.edu/event/csc-baseball-oklahoma-wesleyan-university-4/
LOCATION:OK
END:VEVENT
BEGIN:VEVENT
DTSTART;TZID=America/Chicago:20251022T180000
DTEND;TZID=America/Chicago:20251022T193000
DTSTAMP:20260423T175708
CREATED:20250804T211455Z
LAST-MODIFIED:20250804T211455Z
UID:48052-1761156000-1761161400@www.connorsstate.edu
SUMMARY:CSC Women's Soccer vs Rose State
DESCRIPTION:
URL:https://www.connorsstate.edu/event/csc-womens-soccer-vs-rose-state/
LOCATION:Hilldale Public Schools\, 300 E Smith Ferry Rd.\, Muskogee\, OK\, 74403\, United States
ORGANIZER;CN="Coach Adam Skolnick":MAILTO:adam.skolnick@connorsstate.edu
END:VEVENT
BEGIN:VEVENT
DTSTART;TZID=America/Chicago:20251022T200000
DTEND;TZID=America/Chicago:20251022T213000
DTSTAMP:20260423T175708
CREATED:20250804T211651Z
LAST-MODIFIED:20250804T211651Z
UID:48054-1761163200-1761168600@www.connorsstate.edu
SUMMARY:CSC Men's Soccer vs Rose State
DESCRIPTION:
URL:https://www.connorsstate.edu/event/csc-mens-soccer-vs-rose-state/
LOCATION:Hilldale Public Schools\, 300 E Smith Ferry Rd.\, Muskogee\, OK\, 74403\, United States
ORGANIZER;CN="Coach Adam Skolnick":MAILTO:adam.skolnick@connorsstate.edu
END:VEVENT
END:VCALENDAR