BEGIN:VCALENDAR
VERSION:2.0
PRODID:-//Connors State College - ECPv6.15.20//NONSGML v1.0//EN
CALSCALE:GREGORIAN
METHOD:PUBLISH
X-WR-CALNAME:Connors State College
X-ORIGINAL-URL:https://www.connorsstate.edu
X-WR-CALDESC:Events for Connors State College
REFRESH-INTERVAL;VALUE=DURATION:PT1H
X-Robots-Tag:noindex
X-PUBLISHED-TTL:PT1H
BEGIN:VTIMEZONE
TZID:America/Chicago
BEGIN:DAYLIGHT
TZOFFSETFROM:-0600
TZOFFSETTO:-0500
TZNAME:CDT
DTSTART:20240310T080000
END:DAYLIGHT
BEGIN:STANDARD
TZOFFSETFROM:-0500
TZOFFSETTO:-0600
TZNAME:CST
DTSTART:20241103T070000
END:STANDARD
BEGIN:DAYLIGHT
TZOFFSETFROM:-0600
TZOFFSETTO:-0500
TZNAME:CDT
DTSTART:20250309T080000
END:DAYLIGHT
BEGIN:STANDARD
TZOFFSETFROM:-0500
TZOFFSETTO:-0600
TZNAME:CST
DTSTART:20251102T070000
END:STANDARD
BEGIN:DAYLIGHT
TZOFFSETFROM:-0600
TZOFFSETTO:-0500
TZNAME:CDT
DTSTART:20260308T080000
END:DAYLIGHT
BEGIN:STANDARD
TZOFFSETFROM:-0500
TZOFFSETTO:-0600
TZNAME:CST
DTSTART:20261101T070000
END:STANDARD
END:VTIMEZONE
BEGIN:VEVENT
DTSTART;VALUE=DATE:20250912
DTEND;VALUE=DATE:20250915
DTSTAMP:20260423T192230
CREATED:20250807T132602Z
LAST-MODIFIED:20250807T132602Z
UID:48250-1757635200-1757894399@www.connorsstate.edu
SUMMARY:CSC Shotgun Shooting Sports- JUCO Prairie Circuit Conference Shoot
DESCRIPTION:Wichita\, KS
URL:https://www.connorsstate.edu/event/csc-shotgun-shooting-sports-juco-prairie-circuit-conference-shoot/
LOCATION:OK
ORGANIZER;CN="Nick Hayes":MAILTO:nick.hayes@connorsstate.edu
END:VEVENT
BEGIN:VEVENT
DTSTART;TZID=America/Chicago:20250914T180000
DTEND;TZID=America/Chicago:20250914T193000
DTSTAMP:20260423T192230
CREATED:20250731T184924Z
LAST-MODIFIED:20250731T184924Z
UID:47882-1757872800-1757878200@www.connorsstate.edu
SUMMARY:CSC Women's Soccer vs NEO
DESCRIPTION:
URL:https://www.connorsstate.edu/event/csc-womens-soccer-vs-neo/
LOCATION:Hilldale Public Schools\, 300 E Smith Ferry Rd.\, Muskogee\, OK\, 74403\, United States
ORGANIZER;CN="Coach Adam Skolnick":MAILTO:adam.skolnick@connorsstate.edu
END:VEVENT
BEGIN:VEVENT
DTSTART;TZID=America/Chicago:20250914T200000
DTEND;TZID=America/Chicago:20250914T213000
DTSTAMP:20260423T192230
CREATED:20250731T185012Z
LAST-MODIFIED:20250731T185012Z
UID:47884-1757880000-1757885400@www.connorsstate.edu
SUMMARY:CSC Men's Soccer vs NEO
DESCRIPTION:
URL:https://www.connorsstate.edu/event/csc-mens-soccer-vs-neo/
LOCATION:Hilldale Public Schools\, 300 E Smith Ferry Rd.\, Muskogee\, OK\, 74403\, United States
ORGANIZER;CN="Coach Adam Skolnick":MAILTO:adam.skolnick@connorsstate.edu
END:VEVENT
END:VCALENDAR