BEGIN:VCALENDAR
VERSION:2.0
PRODID:-//Connors State College - ECPv6.15.20//NONSGML v1.0//EN
CALSCALE:GREGORIAN
METHOD:PUBLISH
X-WR-CALNAME:Connors State College
X-ORIGINAL-URL:https://www.connorsstate.edu
X-WR-CALDESC:Events for Connors State College
REFRESH-INTERVAL;VALUE=DURATION:PT1H
X-Robots-Tag:noindex
X-PUBLISHED-TTL:PT1H
BEGIN:VTIMEZONE
TZID:America/Chicago
BEGIN:DAYLIGHT
TZOFFSETFROM:-0600
TZOFFSETTO:-0500
TZNAME:CDT
DTSTART:20210314T080000
END:DAYLIGHT
BEGIN:STANDARD
TZOFFSETFROM:-0500
TZOFFSETTO:-0600
TZNAME:CST
DTSTART:20211107T070000
END:STANDARD
BEGIN:DAYLIGHT
TZOFFSETFROM:-0600
TZOFFSETTO:-0500
TZNAME:CDT
DTSTART:20220313T080000
END:DAYLIGHT
BEGIN:STANDARD
TZOFFSETFROM:-0500
TZOFFSETTO:-0600
TZNAME:CST
DTSTART:20221106T070000
END:STANDARD
BEGIN:DAYLIGHT
TZOFFSETFROM:-0600
TZOFFSETTO:-0500
TZNAME:CDT
DTSTART:20230312T080000
END:DAYLIGHT
BEGIN:STANDARD
TZOFFSETFROM:-0500
TZOFFSETTO:-0600
TZNAME:CST
DTSTART:20231105T070000
END:STANDARD
END:VTIMEZONE
BEGIN:VEVENT
DTSTART;VALUE=DATE:20221013
DTEND;VALUE=DATE:20221017
DTSTAMP:20260424T085943
CREATED:20220817T152727Z
LAST-MODIFIED:20220817T152727Z
UID:27434-1665619200-1665964799@www.connorsstate.edu
SUMMARY:CSC Archery- 3D Nationals
DESCRIPTION:Foley\, AL
URL:https://www.connorsstate.edu/event/csc-archery-3d-nationals/
LOCATION:OK
ORGANIZER;CN="Coach Johnny King":MAILTO:john.king10@connorsstate.edu
END:VEVENT
BEGIN:VEVENT
DTSTART;VALUE=DATE:20221013
DTEND;VALUE=DATE:20221017
DTSTAMP:20260424T085943
CREATED:20220822T183431Z
LAST-MODIFIED:20220822T183431Z
UID:27630-1665619200-1665964799@www.connorsstate.edu
SUMMARY:Show Team- Texas State Fair
DESCRIPTION:
URL:https://www.connorsstate.edu/event/show-team-texas-state-fair/
LOCATION:OK
ORGANIZER;CN="Stetson May":MAILTO:stetson.may@connorsstate.edu
END:VEVENT
BEGIN:VEVENT
DTSTART;VALUE=DATE:20221014
DTEND;VALUE=DATE:20221017
DTSTAMP:20260424T085943
CREATED:20220817T193813Z
LAST-MODIFIED:20220817T193813Z
UID:27474-1665705600-1665964799@www.connorsstate.edu
SUMMARY:CSC Shotgun Shooting Sports
DESCRIPTION:ACUI Central Midwest \nSparta\, IL
URL:https://www.connorsstate.edu/event/csc-shotgun-shooting-sports-5/
LOCATION:OK
END:VEVENT
END:VCALENDAR