BEGIN:VCALENDAR
VERSION:2.0
PRODID:-//Connors State College - ECPv6.15.20//NONSGML v1.0//EN
CALSCALE:GREGORIAN
METHOD:PUBLISH
X-ORIGINAL-URL:https://www.connorsstate.edu
X-WR-CALDESC:Events for Connors State College
REFRESH-INTERVAL;VALUE=DURATION:PT1H
X-Robots-Tag:noindex
X-PUBLISHED-TTL:PT1H
BEGIN:VTIMEZONE
TZID:America/Chicago
BEGIN:DAYLIGHT
TZOFFSETFROM:-0600
TZOFFSETTO:-0500
TZNAME:CDT
DTSTART:20210314T080000
END:DAYLIGHT
BEGIN:STANDARD
TZOFFSETFROM:-0500
TZOFFSETTO:-0600
TZNAME:CST
DTSTART:20211107T070000
END:STANDARD
BEGIN:DAYLIGHT
TZOFFSETFROM:-0600
TZOFFSETTO:-0500
TZNAME:CDT
DTSTART:20220313T080000
END:DAYLIGHT
BEGIN:STANDARD
TZOFFSETFROM:-0500
TZOFFSETTO:-0600
TZNAME:CST
DTSTART:20221106T070000
END:STANDARD
BEGIN:DAYLIGHT
TZOFFSETFROM:-0600
TZOFFSETTO:-0500
TZNAME:CDT
DTSTART:20230312T080000
END:DAYLIGHT
BEGIN:STANDARD
TZOFFSETFROM:-0500
TZOFFSETTO:-0600
TZNAME:CST
DTSTART:20231105T070000
END:STANDARD
END:VTIMEZONE
BEGIN:VEVENT
DTSTART;VALUE=DATE:20221006
DTEND;VALUE=DATE:20221010
DTSTAMP:20260424T101932
CREATED:20220817T193714Z
LAST-MODIFIED:20220817T193714Z
UID:27471-1665014400-1665359999@www.connorsstate.edu
SUMMARY:CSC Shotgun Shooting Sports
DESCRIPTION:NCSSAA Qualifier \nWaco\, TX
URL:https://www.connorsstate.edu/event/csc-shotgun-shooting-sports-4/
LOCATION:OK
END:VEVENT
BEGIN:VEVENT
DTSTART;VALUE=DATE:20221007
DTEND;VALUE=DATE:20221010
DTSTAMP:20260424T101932
CREATED:20220822T183320Z
LAST-MODIFIED:20220822T183320Z
UID:27628-1665100800-1665359999@www.connorsstate.edu
SUMMARY:Show Team- Tulsa State Fair- Goats
DESCRIPTION:
URL:https://www.connorsstate.edu/event/show-team-tulsa-state-fair-goats/
LOCATION:OK
ORGANIZER;CN="Stetson May":MAILTO:stetson.may@connorsstate.edu
END:VEVENT
BEGIN:VEVENT
DTSTART;TZID=America/Chicago:20221008T080000
DTEND;TZID=America/Chicago:20221008T140000
DTSTAMP:20260424T101932
CREATED:20220922T173406Z
LAST-MODIFIED:20220922T173406Z
UID:27941-1665216000-1665237600@www.connorsstate.edu
SUMMARY:CSC Flower Garden U'Pick- Build your own Bouquet
DESCRIPTION:October 8 \n8 am – 2 pm \nOpen to the Public \nWarner\, OK Campus Greenhouse \n$20 per bucket or $3 gate fee \nReady Made Bouquets Available for purchase in 2 sizes! \nCome Join Us!
URL:https://www.connorsstate.edu/event/csc-flower-garden-upick-build-your-own-bouquet-3/
LOCATION:Green Houses\, 700 College Rd\, Warner\, OK\, 74469\, United States
END:VEVENT
BEGIN:VEVENT
DTSTART;TZID=America/Chicago:20221008T080000
DTEND;TZID=America/Chicago:20221008T140000
DTSTAMP:20260424T101932
CREATED:20220922T182315Z
LAST-MODIFIED:20220922T182315Z
UID:27954-1665216000-1665237600@www.connorsstate.edu
SUMMARY:CSC Horticulture Fall Plant Sale
DESCRIPTION:September 22- October 8 \nU-Pick Flower Bouquets from cut flower garden all day on Saturday. \nMums in 8′ and 12″ Red\, Purple\, white\, Yellow\, Bronze\, (Tricolor in 12″only) \nPansy\, Snapdragons\, Viola annuals\, Tropicals\, Perennials\, Baskets\, Ferns\, Trees\, Shrubs\, Herbs & Vegetable plants available. \nCash\, Check & Cards are excepted. \nFor more information please call: 918-463-6378 \nFollow us on Facebook: \n@CSC Horticulture\, @ CSC Agriculture\, @ CSC Farm Market
URL:https://www.connorsstate.edu/event/csc-horticulture-fall-plant-sale-6/
LOCATION:Green Houses\, 700 College Rd\, Warner\, OK\, 74469\, United States
END:VEVENT
END:VCALENDAR