BEGIN:VCALENDAR
VERSION:2.0
PRODID:-//Connors State College - ECPv6.15.20//NONSGML v1.0//EN
CALSCALE:GREGORIAN
METHOD:PUBLISH
X-WR-CALNAME:Connors State College
X-ORIGINAL-URL:https://www.connorsstate.edu
X-WR-CALDESC:Events for Connors State College
REFRESH-INTERVAL;VALUE=DURATION:PT1H
X-Robots-Tag:noindex
X-PUBLISHED-TTL:PT1H
BEGIN:VTIMEZONE
TZID:America/Chicago
BEGIN:DAYLIGHT
TZOFFSETFROM:-0600
TZOFFSETTO:-0500
TZNAME:CDT
DTSTART:20210314T080000
END:DAYLIGHT
BEGIN:STANDARD
TZOFFSETFROM:-0500
TZOFFSETTO:-0600
TZNAME:CST
DTSTART:20211107T070000
END:STANDARD
BEGIN:DAYLIGHT
TZOFFSETFROM:-0600
TZOFFSETTO:-0500
TZNAME:CDT
DTSTART:20220313T080000
END:DAYLIGHT
BEGIN:STANDARD
TZOFFSETFROM:-0500
TZOFFSETTO:-0600
TZNAME:CST
DTSTART:20221106T070000
END:STANDARD
BEGIN:DAYLIGHT
TZOFFSETFROM:-0600
TZOFFSETTO:-0500
TZNAME:CDT
DTSTART:20230312T080000
END:DAYLIGHT
BEGIN:STANDARD
TZOFFSETFROM:-0500
TZOFFSETTO:-0600
TZNAME:CST
DTSTART:20231105T070000
END:STANDARD
END:VTIMEZONE
BEGIN:VEVENT
DTSTART;TZID=America/Chicago:20220927T100000
DTEND;TZID=America/Chicago:20220930T180000
DTSTAMP:20260424T074016
CREATED:20220922T182106Z
LAST-MODIFIED:20220922T182106Z
UID:27948-1664272800-1664560800@www.connorsstate.edu
SUMMARY:CSC Horticulture Fall Plant Sale
DESCRIPTION:September 22- October 8 \nU-Pick Flower Bouquets from cut flower garden all day on Saturday. \nMums in 8′ and 12″ Red\, Purple\, white\, Yellow\, Bronze\, (Tricolor in 12″only) \nPansy\, Snapdragons\, Viola annuals\, Tropicals\, Perennials\, Baskets\, Ferns\, Trees\, Shrubs\, Herbs & Vegetable plants available. \nCash\, Check & Cards are excepted. \nFor more information please call: 918-463-6378 \nFollow us on Facebook: \n@CSC Horticulture\, @ CSC Agriculture\, @ CSC Farm Market
URL:https://www.connorsstate.edu/event/csc-horticulture-fall-plant-sale-3/
LOCATION:Green Houses\, 700 College Rd\, Warner\, OK\, 74469\, United States
END:VEVENT
BEGIN:VEVENT
DTSTART;VALUE=DATE:20220928
DTEND;VALUE=DATE:20221003
DTSTAMP:20260424T074016
CREATED:20220822T182517Z
LAST-MODIFIED:20220822T182517Z
UID:27626-1664323200-1664755199@www.connorsstate.edu
SUMMARY:Show Team- Tulsa State Fair- Cattle
DESCRIPTION:
URL:https://www.connorsstate.edu/event/show-team-tulsa-state-fair-cattle/
LOCATION:OK
ORGANIZER;CN="Stetson May":MAILTO:stetson.may@connorsstate.edu
END:VEVENT
BEGIN:VEVENT
DTSTART;TZID=America/Chicago:20220928T150000
DTEND;TZID=America/Chicago:20220928T180000
DTSTAMP:20260424T074016
CREATED:20220901T175229Z
LAST-MODIFIED:20220901T175229Z
UID:27833-1664377200-1664388000@www.connorsstate.edu
SUMMARY:CSC Baseball vs Mississaugua Tigers
DESCRIPTION:
URL:https://www.connorsstate.edu/event/csc-baseball-vs-mississaugua-tigers/
LOCATION:Biff Thompson Field at Perry Keith Park\, 700 College Rd\, Warner\, OK\, 74469\, United States
END:VEVENT
BEGIN:VEVENT
DTSTART;TZID=America/Chicago:20220928T170000
DTEND;TZID=America/Chicago:20220928T200000
DTSTAMP:20260424T074016
CREATED:20220826T205911Z
LAST-MODIFIED:20220826T205911Z
UID:27677-1664384400-1664395200@www.connorsstate.edu
SUMMARY:Esports League Games
DESCRIPTION:
URL:https://www.connorsstate.edu/event/esports-league-games-13/
LOCATION:Esports Lab\, 700 College Road\, Warner\, OK\, 74469
ORGANIZER;CN="Christian Jones":MAILTO:cjones51@connorsstate.edu
END:VEVENT
END:VCALENDAR