BEGIN:VCALENDAR
VERSION:2.0
PRODID:-//Connors State College - ECPv6.15.20//NONSGML v1.0//EN
CALSCALE:GREGORIAN
METHOD:PUBLISH
X-WR-CALNAME:Connors State College
X-ORIGINAL-URL:https://www.connorsstate.edu
X-WR-CALDESC:Events for Connors State College
REFRESH-INTERVAL;VALUE=DURATION:PT1H
X-Robots-Tag:noindex
X-PUBLISHED-TTL:PT1H
BEGIN:VTIMEZONE
TZID:America/Chicago
BEGIN:DAYLIGHT
TZOFFSETFROM:-0600
TZOFFSETTO:-0500
TZNAME:CDT
DTSTART:20210314T080000
END:DAYLIGHT
BEGIN:STANDARD
TZOFFSETFROM:-0500
TZOFFSETTO:-0600
TZNAME:CST
DTSTART:20211107T070000
END:STANDARD
BEGIN:DAYLIGHT
TZOFFSETFROM:-0600
TZOFFSETTO:-0500
TZNAME:CDT
DTSTART:20220313T080000
END:DAYLIGHT
BEGIN:STANDARD
TZOFFSETFROM:-0500
TZOFFSETTO:-0600
TZNAME:CST
DTSTART:20221106T070000
END:STANDARD
BEGIN:DAYLIGHT
TZOFFSETFROM:-0600
TZOFFSETTO:-0500
TZNAME:CDT
DTSTART:20230312T080000
END:DAYLIGHT
BEGIN:STANDARD
TZOFFSETFROM:-0500
TZOFFSETTO:-0600
TZNAME:CST
DTSTART:20231105T070000
END:STANDARD
END:VTIMEZONE
BEGIN:VEVENT
DTSTART;TZID=America/Chicago:20220920T130000
DTEND;TZID=America/Chicago:20220920T160000
DTSTAMP:20260424T074036
CREATED:20220901T174552Z
LAST-MODIFIED:20220901T174552Z
UID:27827-1663678800-1663689600@www.connorsstate.edu
SUMMARY:CSC Baseball vs Murray State College
DESCRIPTION:
URL:https://www.connorsstate.edu/event/csc-baseball-vs-murray-state-college/
LOCATION:OK
END:VEVENT
BEGIN:VEVENT
DTSTART;TZID=America/Chicago:20220920T170000
DTEND;TZID=America/Chicago:20220920T200000
DTSTAMP:20260424T074036
CREATED:20220826T205539Z
LAST-MODIFIED:20220826T205539Z
UID:27665-1663693200-1663704000@www.connorsstate.edu
SUMMARY:Esports League Games
DESCRIPTION:
URL:https://www.connorsstate.edu/event/esports-league-games-7/
LOCATION:Esports Lab\, 700 College Road\, Warner\, OK\, 74469
ORGANIZER;CN="Christian Jones":MAILTO:cjones51@connorsstate.edu
END:VEVENT
END:VCALENDAR