BEGIN:VCALENDAR
VERSION:2.0
PRODID:-//Connors State College - ECPv6.15.20//NONSGML v1.0//EN
CALSCALE:GREGORIAN
METHOD:PUBLISH
X-ORIGINAL-URL:https://www.connorsstate.edu
X-WR-CALDESC:Events for Connors State College
REFRESH-INTERVAL;VALUE=DURATION:PT1H
X-Robots-Tag:noindex
X-PUBLISHED-TTL:PT1H
BEGIN:VTIMEZONE
TZID:America/Chicago
BEGIN:DAYLIGHT
TZOFFSETFROM:-0600
TZOFFSETTO:-0500
TZNAME:CDT
DTSTART:20210314T080000
END:DAYLIGHT
BEGIN:STANDARD
TZOFFSETFROM:-0500
TZOFFSETTO:-0600
TZNAME:CST
DTSTART:20211107T070000
END:STANDARD
BEGIN:DAYLIGHT
TZOFFSETFROM:-0600
TZOFFSETTO:-0500
TZNAME:CDT
DTSTART:20220313T080000
END:DAYLIGHT
BEGIN:STANDARD
TZOFFSETFROM:-0500
TZOFFSETTO:-0600
TZNAME:CST
DTSTART:20221106T070000
END:STANDARD
BEGIN:DAYLIGHT
TZOFFSETFROM:-0600
TZOFFSETTO:-0500
TZNAME:CDT
DTSTART:20230312T080000
END:DAYLIGHT
BEGIN:STANDARD
TZOFFSETFROM:-0500
TZOFFSETTO:-0600
TZNAME:CST
DTSTART:20231105T070000
END:STANDARD
END:VTIMEZONE
BEGIN:VEVENT
DTSTART;TZID=America/Chicago:20220418T100000
DTEND;TZID=America/Chicago:20220422T180000
DTSTAMP:20260424T022933
CREATED:20220325T200606Z
LAST-MODIFIED:20220325T200606Z
UID:26498-1650276000-1650650400@www.connorsstate.edu
SUMMARY:Spring Plant Sale
DESCRIPTION:
URL:https://www.connorsstate.edu/event/spring-plant-sale-5/
LOCATION:Green Houses\, 700 College Rd\, Warner\, OK\, 74469\, United States
END:VEVENT
BEGIN:VEVENT
DTSTART;TZID=America/Chicago:20220419T180000
DTEND;TZID=America/Chicago:20220419T200000
DTSTAMP:20260424T022933
CREATED:20211019T170819Z
LAST-MODIFIED:20211019T170819Z
UID:25288-1650391200-1650398400@www.connorsstate.edu
SUMMARY:CSC Honors Night
DESCRIPTION:
URL:https://www.connorsstate.edu/event/csc-honors-night/
LOCATION:Nero Fine Arts Auditorium\, 700 College Rd\, Warner\, OK\, 74469\, United States
END:VEVENT
BEGIN:VEVENT
DTSTART;TZID=America/Chicago:20220419T180000
DTEND;TZID=America/Chicago:20220419T200000
DTSTAMP:20260424T022933
CREATED:20220112T174259Z
LAST-MODIFIED:20220112T174259Z
UID:25915-1650391200-1650398400@www.connorsstate.edu
SUMMARY:CSC Baseball vs Crowder College
DESCRIPTION:
URL:https://www.connorsstate.edu/event/csc-baseball-vs-crowder-college/
LOCATION:OK
END:VEVENT
END:VCALENDAR