BEGIN:VCALENDAR
VERSION:2.0
PRODID:-//Connors State College - ECPv6.15.20//NONSGML v1.0//EN
CALSCALE:GREGORIAN
METHOD:PUBLISH
X-ORIGINAL-URL:https://www.connorsstate.edu
X-WR-CALDESC:Events for Connors State College
REFRESH-INTERVAL;VALUE=DURATION:PT1H
X-Robots-Tag:noindex
X-PUBLISHED-TTL:PT1H
BEGIN:VTIMEZONE
TZID:America/Chicago
BEGIN:DAYLIGHT
TZOFFSETFROM:-0600
TZOFFSETTO:-0500
TZNAME:CDT
DTSTART:20210314T080000
END:DAYLIGHT
BEGIN:STANDARD
TZOFFSETFROM:-0500
TZOFFSETTO:-0600
TZNAME:CST
DTSTART:20211107T070000
END:STANDARD
BEGIN:DAYLIGHT
TZOFFSETFROM:-0600
TZOFFSETTO:-0500
TZNAME:CDT
DTSTART:20220313T080000
END:DAYLIGHT
BEGIN:STANDARD
TZOFFSETFROM:-0500
TZOFFSETTO:-0600
TZNAME:CST
DTSTART:20221106T070000
END:STANDARD
BEGIN:DAYLIGHT
TZOFFSETFROM:-0600
TZOFFSETTO:-0500
TZNAME:CDT
DTSTART:20230312T080000
END:DAYLIGHT
BEGIN:STANDARD
TZOFFSETFROM:-0500
TZOFFSETTO:-0600
TZNAME:CST
DTSTART:20231105T070000
END:STANDARD
END:VTIMEZONE
BEGIN:VEVENT
DTSTART;TZID=America/Chicago:20220416T100000
DTEND;TZID=America/Chicago:20220416T140000
DTSTAMP:20260424T022934
CREATED:20220325T200416Z
LAST-MODIFIED:20220325T200416Z
UID:26492-1650103200-1650117600@www.connorsstate.edu
SUMMARY:Spring Plant Sale
DESCRIPTION:
URL:https://www.connorsstate.edu/event/spring-plant-sale-2/
LOCATION:Green Houses\, 700 College Rd\, Warner\, OK\, 74469\, United States
END:VEVENT
BEGIN:VEVENT
DTSTART;TZID=America/Chicago:20220416T130000
DTEND;TZID=America/Chicago:20220416T150000
DTSTAMP:20260424T022934
CREATED:20220112T165647Z
LAST-MODIFIED:20220112T165647Z
UID:25860-1650114000-1650121200@www.connorsstate.edu
SUMMARY:CSC Softball vs Crowder
DESCRIPTION:
URL:https://www.connorsstate.edu/event/csc-softball-vs-crowder/
LOCATION:Softball Field\, 700 College Rd\, Warner\, OK\, 74469\, United States
END:VEVENT
BEGIN:VEVENT
DTSTART;TZID=America/Chicago:20220416T130000
DTEND;TZID=America/Chicago:20220416T170000
DTSTAMP:20260424T022934
CREATED:20220112T174209Z
LAST-MODIFIED:20220112T174209Z
UID:25913-1650114000-1650128400@www.connorsstate.edu
SUMMARY:CSC Baseball vs Texas Postgrad
DESCRIPTION:Double Header
URL:https://www.connorsstate.edu/event/csc-baseball-vs-texas-postgrad-2/
LOCATION:OK
END:VEVENT
BEGIN:VEVENT
DTSTART;TZID=America/Chicago:20220416T150000
DTEND;TZID=America/Chicago:20220416T170000
DTSTAMP:20260424T022934
CREATED:20220112T165740Z
LAST-MODIFIED:20220112T165740Z
UID:25862-1650121200-1650128400@www.connorsstate.edu
SUMMARY:CSC Softball vs Crowder
DESCRIPTION:
URL:https://www.connorsstate.edu/event/csc-softball-vs-crowder-2/
LOCATION:Softball Field\, 700 College Rd\, Warner\, OK\, 74469\, United States
END:VEVENT
END:VCALENDAR