BEGIN:VCALENDAR
VERSION:2.0
PRODID:-//Connors State College - ECPv6.15.20//NONSGML v1.0//EN
CALSCALE:GREGORIAN
METHOD:PUBLISH
X-ORIGINAL-URL:https://www.connorsstate.edu
X-WR-CALDESC:Events for Connors State College
REFRESH-INTERVAL;VALUE=DURATION:PT1H
X-Robots-Tag:noindex
X-PUBLISHED-TTL:PT1H
BEGIN:VTIMEZONE
TZID:America/Chicago
BEGIN:DAYLIGHT
TZOFFSETFROM:-0600
TZOFFSETTO:-0500
TZNAME:CDT
DTSTART:20210314T080000
END:DAYLIGHT
BEGIN:STANDARD
TZOFFSETFROM:-0500
TZOFFSETTO:-0600
TZNAME:CST
DTSTART:20211107T070000
END:STANDARD
BEGIN:DAYLIGHT
TZOFFSETFROM:-0600
TZOFFSETTO:-0500
TZNAME:CDT
DTSTART:20220313T080000
END:DAYLIGHT
BEGIN:STANDARD
TZOFFSETFROM:-0500
TZOFFSETTO:-0600
TZNAME:CST
DTSTART:20221106T070000
END:STANDARD
BEGIN:DAYLIGHT
TZOFFSETFROM:-0600
TZOFFSETTO:-0500
TZNAME:CDT
DTSTART:20230312T080000
END:DAYLIGHT
BEGIN:STANDARD
TZOFFSETFROM:-0500
TZOFFSETTO:-0600
TZNAME:CST
DTSTART:20231105T070000
END:STANDARD
END:VTIMEZONE
BEGIN:VEVENT
DTSTART;TZID=America/Chicago:20220409T070000
DTEND;TZID=America/Chicago:20220409T180000
DTSTAMP:20260424T022929
CREATED:20220208T205617Z
LAST-MODIFIED:20220330T165435Z
UID:26188-1649487600-1649527200@www.connorsstate.edu
SUMMARY:"The Masters" Livestock Judging Contest
DESCRIPTION:Events will take place in the following; \nIndoor & Outdoor Arena\, EDB Classrooms\, Fine Arts Auditorium
URL:https://www.connorsstate.edu/event/the-masters-livestock-judging-contest/
LOCATION:Warner Campus\, 700 College Rd\, Warner\, OK\, 74469\, United States
END:VEVENT
BEGIN:VEVENT
DTSTART;TZID=America/Chicago:20220409T130000
DTEND;TZID=America/Chicago:20220409T170000
DTSTAMP:20260424T022929
CREATED:20220112T173952Z
LAST-MODIFIED:20220112T173952Z
UID:25909-1649509200-1649523600@www.connorsstate.edu
SUMMARY:CSC Baseball vs Eastern Oklahoma State College
DESCRIPTION:Double Header
URL:https://www.connorsstate.edu/event/csc-baseball-vs-eastern-oklahoma-state-college-2/
LOCATION:OK
END:VEVENT
END:VCALENDAR