BEGIN:VCALENDAR
VERSION:2.0
PRODID:-//Connors State College - ECPv6.15.20//NONSGML v1.0//EN
CALSCALE:GREGORIAN
METHOD:PUBLISH
X-WR-CALNAME:Connors State College
X-ORIGINAL-URL:https://www.connorsstate.edu
X-WR-CALDESC:Events for Connors State College
REFRESH-INTERVAL;VALUE=DURATION:PT1H
X-Robots-Tag:noindex
X-PUBLISHED-TTL:PT1H
BEGIN:VTIMEZONE
TZID:America/Chicago
BEGIN:DAYLIGHT
TZOFFSETFROM:-0600
TZOFFSETTO:-0500
TZNAME:CDT
DTSTART:20210314T080000
END:DAYLIGHT
BEGIN:STANDARD
TZOFFSETFROM:-0500
TZOFFSETTO:-0600
TZNAME:CST
DTSTART:20211107T070000
END:STANDARD
BEGIN:DAYLIGHT
TZOFFSETFROM:-0600
TZOFFSETTO:-0500
TZNAME:CDT
DTSTART:20220313T080000
END:DAYLIGHT
BEGIN:STANDARD
TZOFFSETFROM:-0500
TZOFFSETTO:-0600
TZNAME:CST
DTSTART:20221106T070000
END:STANDARD
BEGIN:DAYLIGHT
TZOFFSETFROM:-0600
TZOFFSETTO:-0500
TZNAME:CDT
DTSTART:20230312T080000
END:DAYLIGHT
BEGIN:STANDARD
TZOFFSETFROM:-0500
TZOFFSETTO:-0600
TZNAME:CST
DTSTART:20231105T070000
END:STANDARD
END:VTIMEZONE
BEGIN:VEVENT
DTSTART;VALUE=DATE:20220301
DTEND;VALUE=DATE:20220302
DTSTAMP:20260424T001042
CREATED:20210817T173721Z
LAST-MODIFIED:20210817T173721Z
UID:24505-1646092800-1646179199@www.connorsstate.edu
SUMMARY:Nursing Application Deadline for Traditional and Career Ladder Program
DESCRIPTION:
URL:https://www.connorsstate.edu/event/nursing-application-deadline-for-traditional-and-career-ladder-program/
LOCATION:NAH Auditorium\, 2501 N 41 Street East\, Muskogee\, OK\, 74401\, United States
ORGANIZER;CN="Tracy Lieblang":MAILTO:tracy.liblang@connorsstate.edu
END:VEVENT
END:VCALENDAR