BEGIN:VCALENDAR
VERSION:2.0
PRODID:-//Connors State College - ECPv6.15.20//NONSGML v1.0//EN
CALSCALE:GREGORIAN
METHOD:PUBLISH
X-WR-CALNAME:Connors State College
X-ORIGINAL-URL:https://www.connorsstate.edu
X-WR-CALDESC:Events for Connors State College
REFRESH-INTERVAL;VALUE=DURATION:PT1H
X-Robots-Tag:noindex
X-PUBLISHED-TTL:PT1H
BEGIN:VTIMEZONE
TZID:America/Chicago
BEGIN:DAYLIGHT
TZOFFSETFROM:-0600
TZOFFSETTO:-0500
TZNAME:CDT
DTSTART:20210314T080000
END:DAYLIGHT
BEGIN:STANDARD
TZOFFSETFROM:-0500
TZOFFSETTO:-0600
TZNAME:CST
DTSTART:20211107T070000
END:STANDARD
BEGIN:DAYLIGHT
TZOFFSETFROM:-0600
TZOFFSETTO:-0500
TZNAME:CDT
DTSTART:20220313T080000
END:DAYLIGHT
BEGIN:STANDARD
TZOFFSETFROM:-0500
TZOFFSETTO:-0600
TZNAME:CST
DTSTART:20221106T070000
END:STANDARD
BEGIN:DAYLIGHT
TZOFFSETFROM:-0600
TZOFFSETTO:-0500
TZNAME:CDT
DTSTART:20230312T080000
END:DAYLIGHT
BEGIN:STANDARD
TZOFFSETFROM:-0500
TZOFFSETTO:-0600
TZNAME:CST
DTSTART:20231105T070000
END:STANDARD
END:VTIMEZONE
BEGIN:VEVENT
DTSTART;TZID=America/Chicago:20220221T130000
DTEND;TZID=America/Chicago:20220221T170000
DTSTAMP:20260424T001709
CREATED:20220112T172841Z
LAST-MODIFIED:20220112T172841Z
UID:25889-1645448400-1645462800@www.connorsstate.edu
SUMMARY:CSC Baseball vs Arkansas Tech
DESCRIPTION:Double Header
URL:https://www.connorsstate.edu/event/csc-baseball-vs-arkansas-tech/
LOCATION:Biff Thompson Field at Perry Keith Park\, 700 College Rd\, Warner\, OK\, 74469\, United States
END:VEVENT
BEGIN:VEVENT
DTSTART;TZID=America/Chicago:20220221T140000
DTEND;TZID=America/Chicago:20220221T160000
DTSTAMP:20260424T001709
CREATED:20220112T163845Z
LAST-MODIFIED:20220112T163845Z
UID:25825-1645452000-1645459200@www.connorsstate.edu
SUMMARY:CSC Softball vs MACU JV
DESCRIPTION:
URL:https://www.connorsstate.edu/event/csc-softball-vs-macu-jv/
LOCATION:Softball Field\, 700 College Rd\, Warner\, OK\, 74469\, United States
END:VEVENT
BEGIN:VEVENT
DTSTART;TZID=America/Chicago:20220221T160000
DTEND;TZID=America/Chicago:20220221T180000
DTSTAMP:20260424T001709
CREATED:20220112T163923Z
LAST-MODIFIED:20220112T163923Z
UID:25827-1645459200-1645466400@www.connorsstate.edu
SUMMARY:CSC Softball vs MACU JV
DESCRIPTION:
URL:https://www.connorsstate.edu/event/csc-softball-vs-macu-jv-2/
LOCATION:Softball Field\, 700 College Rd\, Warner\, OK\, 74469\, United States
END:VEVENT
END:VCALENDAR