BEGIN:VCALENDAR
VERSION:2.0
PRODID:-//Connors State College - ECPv6.15.20//NONSGML v1.0//EN
CALSCALE:GREGORIAN
METHOD:PUBLISH
X-WR-CALNAME:Connors State College
X-ORIGINAL-URL:https://www.connorsstate.edu
X-WR-CALDESC:Events for Connors State College
REFRESH-INTERVAL;VALUE=DURATION:PT1H
X-Robots-Tag:noindex
X-PUBLISHED-TTL:PT1H
BEGIN:VTIMEZONE
TZID:America/Chicago
BEGIN:DAYLIGHT
TZOFFSETFROM:-0600
TZOFFSETTO:-0500
TZNAME:CDT
DTSTART:20210314T080000
END:DAYLIGHT
BEGIN:STANDARD
TZOFFSETFROM:-0500
TZOFFSETTO:-0600
TZNAME:CST
DTSTART:20211107T070000
END:STANDARD
BEGIN:DAYLIGHT
TZOFFSETFROM:-0600
TZOFFSETTO:-0500
TZNAME:CDT
DTSTART:20220313T080000
END:DAYLIGHT
BEGIN:STANDARD
TZOFFSETFROM:-0500
TZOFFSETTO:-0600
TZNAME:CST
DTSTART:20221106T070000
END:STANDARD
BEGIN:DAYLIGHT
TZOFFSETFROM:-0600
TZOFFSETTO:-0500
TZNAME:CDT
DTSTART:20230312T080000
END:DAYLIGHT
BEGIN:STANDARD
TZOFFSETFROM:-0500
TZOFFSETTO:-0600
TZNAME:CST
DTSTART:20231105T070000
END:STANDARD
END:VTIMEZONE
BEGIN:VEVENT
DTSTART;TZID=America/Chicago:20220124T173000
DTEND;TZID=America/Chicago:20220124T190000
DTSTAMP:20260423T230522
CREATED:20220111T210713Z
LAST-MODIFIED:20220111T210713Z
UID:25780-1643045400-1643050800@www.connorsstate.edu
SUMMARY:CSC Women's Basketball vs Enid
DESCRIPTION:
URL:https://www.connorsstate.edu/event/csc-womens-basketball-vs-enid/
LOCATION:OK
END:VEVENT
BEGIN:VEVENT
DTSTART;TZID=America/Chicago:20220124T193000
DTEND;TZID=America/Chicago:20220124T213000
DTSTAMP:20260423T230522
CREATED:20220111T210803Z
LAST-MODIFIED:20220111T210803Z
UID:25782-1643052600-1643059800@www.connorsstate.edu
SUMMARY:CSC Men's Basketball vs Enid
DESCRIPTION:
URL:https://www.connorsstate.edu/event/csc-mens-basketball-vs-enid/
LOCATION:Melvin Self Fieldhouse\, 700 College Rd\, Warner\, OK\, 74469\, United States
END:VEVENT
END:VCALENDAR