BEGIN:VCALENDAR
VERSION:2.0
PRODID:-//Connors State College - ECPv6.15.20//NONSGML v1.0//EN
CALSCALE:GREGORIAN
METHOD:PUBLISH
X-ORIGINAL-URL:https://www.connorsstate.edu
X-WR-CALDESC:Events for Connors State College
REFRESH-INTERVAL;VALUE=DURATION:PT1H
X-Robots-Tag:noindex
X-PUBLISHED-TTL:PT1H
BEGIN:VTIMEZONE
TZID:America/Chicago
BEGIN:DAYLIGHT
TZOFFSETFROM:-0600
TZOFFSETTO:-0500
TZNAME:CDT
DTSTART:20200308T080000
END:DAYLIGHT
BEGIN:STANDARD
TZOFFSETFROM:-0500
TZOFFSETTO:-0600
TZNAME:CST
DTSTART:20201101T070000
END:STANDARD
BEGIN:DAYLIGHT
TZOFFSETFROM:-0600
TZOFFSETTO:-0500
TZNAME:CDT
DTSTART:20210314T080000
END:DAYLIGHT
BEGIN:STANDARD
TZOFFSETFROM:-0500
TZOFFSETTO:-0600
TZNAME:CST
DTSTART:20211107T070000
END:STANDARD
BEGIN:DAYLIGHT
TZOFFSETFROM:-0600
TZOFFSETTO:-0500
TZNAME:CDT
DTSTART:20220313T080000
END:DAYLIGHT
BEGIN:STANDARD
TZOFFSETFROM:-0500
TZOFFSETTO:-0600
TZNAME:CST
DTSTART:20221106T070000
END:STANDARD
END:VTIMEZONE
BEGIN:VEVENT
DTSTART;TZID=America/Chicago:20211026T180000
DTEND;TZID=America/Chicago:20211026T200000
DTSTAMP:20260423T192435
CREATED:20210831T163050Z
LAST-MODIFIED:20210831T163138Z
UID:24677-1635271200-1635278400@www.connorsstate.edu
SUMMARY:Aggie Club Meeting
DESCRIPTION:Fishing and Smores\n\nDirections:\nFrom Corner of College Road and State HWY 2. Go South (right) approximately 6.8 miles.\nTurn right  E243rd St. S/E1110  approximately 2.7 miles to Ranch entrance on left into gate. (Look for CSC Shooting Team Sign)
URL:https://www.connorsstate.edu/event/aggie-club-fishing-smores/
LOCATION:Harding South Ranch
END:VEVENT
END:VCALENDAR