BEGIN:VCALENDAR
VERSION:2.0
PRODID:-//Connors State College - ECPv6.15.20//NONSGML v1.0//EN
CALSCALE:GREGORIAN
METHOD:PUBLISH
X-ORIGINAL-URL:https://www.connorsstate.edu
X-WR-CALDESC:Events for Connors State College
REFRESH-INTERVAL;VALUE=DURATION:PT1H
X-Robots-Tag:noindex
X-PUBLISHED-TTL:PT1H
BEGIN:VTIMEZONE
TZID:America/Chicago
BEGIN:DAYLIGHT
TZOFFSETFROM:-0600
TZOFFSETTO:-0500
TZNAME:CDT
DTSTART:20200308T080000
END:DAYLIGHT
BEGIN:STANDARD
TZOFFSETFROM:-0500
TZOFFSETTO:-0600
TZNAME:CST
DTSTART:20201101T070000
END:STANDARD
BEGIN:DAYLIGHT
TZOFFSETFROM:-0600
TZOFFSETTO:-0500
TZNAME:CDT
DTSTART:20210314T080000
END:DAYLIGHT
BEGIN:STANDARD
TZOFFSETFROM:-0500
TZOFFSETTO:-0600
TZNAME:CST
DTSTART:20211107T070000
END:STANDARD
BEGIN:DAYLIGHT
TZOFFSETFROM:-0600
TZOFFSETTO:-0500
TZNAME:CDT
DTSTART:20220313T080000
END:DAYLIGHT
BEGIN:STANDARD
TZOFFSETFROM:-0500
TZOFFSETTO:-0600
TZNAME:CST
DTSTART:20221106T070000
END:STANDARD
END:VTIMEZONE
BEGIN:VEVENT
DTSTART;TZID=America/Chicago:20211011T100000
DTEND;TZID=America/Chicago:20211015T170000
DTSTAMP:20260423T192347
CREATED:20210831T153320Z
LAST-MODIFIED:20210831T153320Z
UID:24657-1633946400-1634317200@www.connorsstate.edu
SUMMARY:Fall Plant Sale
DESCRIPTION:Fall Plant Sale- Week 4 \nConnors Farm Market & Club Co-Op
URL:https://www.connorsstate.edu/event/fall-plant-sale/
LOCATION:Connors Farm Market & Club Co-Op\, 700 College Rd\, Warner\, OK\, 74469\, United States
END:VEVENT
BEGIN:VEVENT
DTSTART;TZID=America/Chicago:20211012T090000
DTEND;TZID=America/Chicago:20211013T170000
DTSTAMP:20260423T192347
CREATED:20210831T162341Z
LAST-MODIFIED:20210831T162458Z
UID:24666-1634029200-1634144400@www.connorsstate.edu
SUMMARY:South Ranch Shotgun Shootout
DESCRIPTION:Directions: \nFrom Corner of College Road and State HWY 2. Go South (right) approximately 6.8 miles. \nTurn right  E243rd St. S/E1110  approximately 2.7 miles to Ranch entrance on left into gate. (Look for CSC Shooting Team Sign)
URL:https://www.connorsstate.edu/event/south-ranch-shotgun-shootout/
LOCATION:Harding South Ranch
END:VEVENT
BEGIN:VEVENT
DTSTART;TZID=America/Chicago:20211012T150000
DTEND;TZID=America/Chicago:20211012T190000
DTSTAMP:20260423T192347
CREATED:20210831T162858Z
LAST-MODIFIED:20210831T162858Z
UID:24673-1634050800-1634065200@www.connorsstate.edu
SUMMARY:FFA Greenhand Quiz Contest
DESCRIPTION:Hosted by Agriculture Ambassadors \n 
URL:https://www.connorsstate.edu/event/ffa-greenhand-quiz-contest/
LOCATION:CSC Student Union\, 700 College Rd\, Warner\, OK\, 74469\, United States
END:VEVENT
END:VCALENDAR