BEGIN:VCALENDAR
VERSION:2.0
PRODID:-//Connors State College - ECPv6.15.20//NONSGML v1.0//EN
CALSCALE:GREGORIAN
METHOD:PUBLISH
X-ORIGINAL-URL:https://www.connorsstate.edu
X-WR-CALDESC:Events for Connors State College
REFRESH-INTERVAL;VALUE=DURATION:PT1H
X-Robots-Tag:noindex
X-PUBLISHED-TTL:PT1H
BEGIN:VTIMEZONE
TZID:America/Chicago
BEGIN:DAYLIGHT
TZOFFSETFROM:-0600
TZOFFSETTO:-0500
TZNAME:CDT
DTSTART:20200308T080000
END:DAYLIGHT
BEGIN:STANDARD
TZOFFSETFROM:-0500
TZOFFSETTO:-0600
TZNAME:CST
DTSTART:20201101T070000
END:STANDARD
BEGIN:DAYLIGHT
TZOFFSETFROM:-0600
TZOFFSETTO:-0500
TZNAME:CDT
DTSTART:20210314T080000
END:DAYLIGHT
BEGIN:STANDARD
TZOFFSETFROM:-0500
TZOFFSETTO:-0600
TZNAME:CST
DTSTART:20211107T070000
END:STANDARD
BEGIN:DAYLIGHT
TZOFFSETFROM:-0600
TZOFFSETTO:-0500
TZNAME:CDT
DTSTART:20220313T080000
END:DAYLIGHT
BEGIN:STANDARD
TZOFFSETFROM:-0500
TZOFFSETTO:-0600
TZNAME:CST
DTSTART:20221106T070000
END:STANDARD
END:VTIMEZONE
BEGIN:VEVENT
DTSTART;VALUE=DATE:20211011
DTEND;VALUE=DATE:20211012
DTSTAMP:20260423T192347
CREATED:20210831T161905Z
LAST-MODIFIED:20210831T173705Z
UID:24659-1633910400-1633996799@www.connorsstate.edu
SUMMARY:CSC Show Team- Texas State Fair
DESCRIPTION:Texas State Fair\nTexas State Fair Grounds – 3921 Martin Luther King Jr.\, Blvd. Dallas\, TX 75210
URL:https://www.connorsstate.edu/event/csc-show-team/
LOCATION:OK
ORGANIZER;CN="Stetson May":MAILTO:stetson.may@connorsstate.edu
END:VEVENT
BEGIN:VEVENT
DTSTART;TZID=America/Chicago:20211011T080000
DTEND;TZID=America/Chicago:20211011T170000
DTSTAMP:20260423T192347
CREATED:20210524T200558Z
LAST-MODIFIED:20210524T200558Z
UID:23768-1633939200-1633971600@www.connorsstate.edu
SUMMARY:First Day for 2nd 8 Week Class
DESCRIPTION:
URL:https://www.connorsstate.edu/event/first-day-for-2nd-8-week-class/
LOCATION:OK
END:VEVENT
BEGIN:VEVENT
DTSTART;TZID=America/Chicago:20211011T100000
DTEND;TZID=America/Chicago:20211015T170000
DTSTAMP:20260423T192347
CREATED:20210831T153320Z
LAST-MODIFIED:20210831T153320Z
UID:24657-1633946400-1634317200@www.connorsstate.edu
SUMMARY:Fall Plant Sale
DESCRIPTION:Fall Plant Sale- Week 4 \nConnors Farm Market & Club Co-Op
URL:https://www.connorsstate.edu/event/fall-plant-sale/
LOCATION:Connors Farm Market & Club Co-Op\, 700 College Rd\, Warner\, OK\, 74469\, United States
END:VEVENT
END:VCALENDAR