BEGIN:VCALENDAR
VERSION:2.0
PRODID:-//Connors State College - ECPv6.15.20//NONSGML v1.0//EN
CALSCALE:GREGORIAN
METHOD:PUBLISH
X-WR-CALNAME:Connors State College
X-ORIGINAL-URL:https://www.connorsstate.edu
X-WR-CALDESC:Events for Connors State College
REFRESH-INTERVAL;VALUE=DURATION:PT1H
X-Robots-Tag:noindex
X-PUBLISHED-TTL:PT1H
BEGIN:VTIMEZONE
TZID:America/Chicago
BEGIN:DAYLIGHT
TZOFFSETFROM:-0600
TZOFFSETTO:-0500
TZNAME:CDT
DTSTART:20200308T080000
END:DAYLIGHT
BEGIN:STANDARD
TZOFFSETFROM:-0500
TZOFFSETTO:-0600
TZNAME:CST
DTSTART:20201101T070000
END:STANDARD
BEGIN:DAYLIGHT
TZOFFSETFROM:-0600
TZOFFSETTO:-0500
TZNAME:CDT
DTSTART:20210314T080000
END:DAYLIGHT
BEGIN:STANDARD
TZOFFSETFROM:-0500
TZOFFSETTO:-0600
TZNAME:CST
DTSTART:20211107T070000
END:STANDARD
BEGIN:DAYLIGHT
TZOFFSETFROM:-0600
TZOFFSETTO:-0500
TZNAME:CDT
DTSTART:20220313T080000
END:DAYLIGHT
BEGIN:STANDARD
TZOFFSETFROM:-0500
TZOFFSETTO:-0600
TZNAME:CST
DTSTART:20221106T070000
END:STANDARD
END:VTIMEZONE
BEGIN:VEVENT
DTSTART;VALUE=DATE:20211001
DTEND;VALUE=DATE:20211011
DTSTAMP:20260423T192121
CREATED:20210831T172907Z
LAST-MODIFIED:20210831T173748Z
UID:24719-1633046400-1633910399@www.connorsstate.edu
SUMMARY:CSC Show Team- Tulsa State Fair
DESCRIPTION:Gert Show Oct. 3rd \nOpen Cattle Show- Oct 1-3 \nSwine Showmanship Oct 4th \nSwine Show Oct 5-6 \nHeifer Showmanship Oct 8th \nGoat Show Oct 9-10 \nJunior Heifer Show Oct 9-10 \nTulsa State Fairgrounds – 4145 E 21st St\, Tulsa\, OK 74114
URL:https://www.connorsstate.edu/event/csc-show-team-tulsa-state-fair/
LOCATION:OK
END:VEVENT
BEGIN:VEVENT
DTSTART;TZID=America/Chicago:20211004T100000
DTEND;TZID=America/Chicago:20211008T170000
DTSTAMP:20260423T192121
CREATED:20210831T153141Z
LAST-MODIFIED:20210831T153141Z
UID:24651-1633341600-1633712400@www.connorsstate.edu
SUMMARY:Fall Plant Sale
DESCRIPTION:Fall Plant Sale- Week 3\nConnors Farmer Market &Club Co-Op\nPlease contact Stay Drewry with any questions.\nstacy.drewry@connorsstate.edu\n 
URL:https://www.connorsstate.edu/event/fall-plant-sale/
LOCATION:Connors Farm Market & Club Co-Op\, 700 College Rd\, Warner\, OK\, 74469\, United States
END:VEVENT
BEGIN:VEVENT
DTSTART;VALUE=DATE:20211008
DTEND;VALUE=DATE:20211009
DTSTAMP:20260423T192121
CREATED:20210831T180158Z
LAST-MODIFIED:20210831T181909Z
UID:24732-1633651200-1633737599@www.connorsstate.edu
SUMMARY:CSC Livestock Judging Team- Tulsa State Fair
DESCRIPTION:
URL:https://www.connorsstate.edu/event/csc-livestock-judging-team-tulsa-state-fair/
LOCATION:OK
END:VEVENT
BEGIN:VEVENT
DTSTART;VALUE=DATE:20211008
DTEND;VALUE=DATE:20211011
DTSTAMP:20260423T192121
CREATED:20210831T183949Z
LAST-MODIFIED:20210831T183949Z
UID:24761-1633651200-1633910399@www.connorsstate.edu
SUMMARY:CSC Shooting Team- Missouri S&T Miner Classic
DESCRIPTION:
URL:https://www.connorsstate.edu/event/csc-shooting-team-missouri-st-miner-classic/
LOCATION:OK
END:VEVENT
BEGIN:VEVENT
DTSTART;TZID=America/Chicago:20211008T080000
DTEND;TZID=America/Chicago:20211008T170000
DTSTAMP:20260423T192121
CREATED:20210524T200530Z
LAST-MODIFIED:20210524T200530Z
UID:23766-1633680000-1633712400@www.connorsstate.edu
SUMMARY:Last Day for 1st 8 Week Class
DESCRIPTION:
URL:https://www.connorsstate.edu/event/last-day-for-1st-8-week-class/
LOCATION:OK
END:VEVENT
BEGIN:VEVENT
DTSTART;TZID=America/Chicago:20211008T170000
DTEND;TZID=America/Chicago:20211008T190000
DTSTAMP:20260423T192121
CREATED:20211019T171257Z
LAST-MODIFIED:20211019T171257Z
UID:25293-1633712400-1633719600@www.connorsstate.edu
SUMMARY:Kaleidoscope Reading
DESCRIPTION:
URL:https://www.connorsstate.edu/event/kaleidoscope-reading/
LOCATION:Warner Library\, 700 College Rd.\, Warner\, OK\, 74469\, United States
END:VEVENT
END:VCALENDAR