BEGIN:VCALENDAR
VERSION:2.0
PRODID:-//Connors State College - ECPv6.15.20//NONSGML v1.0//EN
CALSCALE:GREGORIAN
METHOD:PUBLISH
X-WR-CALNAME:Connors State College
X-ORIGINAL-URL:https://www.connorsstate.edu
X-WR-CALDESC:Events for Connors State College
REFRESH-INTERVAL;VALUE=DURATION:PT1H
X-Robots-Tag:noindex
X-PUBLISHED-TTL:PT1H
BEGIN:VTIMEZONE
TZID:America/Chicago
BEGIN:DAYLIGHT
TZOFFSETFROM:-0600
TZOFFSETTO:-0500
TZNAME:CDT
DTSTART:20200308T080000
END:DAYLIGHT
BEGIN:STANDARD
TZOFFSETFROM:-0500
TZOFFSETTO:-0600
TZNAME:CST
DTSTART:20201101T070000
END:STANDARD
BEGIN:DAYLIGHT
TZOFFSETFROM:-0600
TZOFFSETTO:-0500
TZNAME:CDT
DTSTART:20210314T080000
END:DAYLIGHT
BEGIN:STANDARD
TZOFFSETFROM:-0500
TZOFFSETTO:-0600
TZNAME:CST
DTSTART:20211107T070000
END:STANDARD
BEGIN:DAYLIGHT
TZOFFSETFROM:-0600
TZOFFSETTO:-0500
TZNAME:CDT
DTSTART:20220313T080000
END:DAYLIGHT
BEGIN:STANDARD
TZOFFSETFROM:-0500
TZOFFSETTO:-0600
TZNAME:CST
DTSTART:20221106T070000
END:STANDARD
END:VTIMEZONE
BEGIN:VEVENT
DTSTART;VALUE=DATE:20211001
DTEND;VALUE=DATE:20211011
DTSTAMP:20260423T175823
CREATED:20210831T172907Z
LAST-MODIFIED:20210831T173748Z
UID:24719-1633046400-1633910399@www.connorsstate.edu
SUMMARY:CSC Show Team- Tulsa State Fair
DESCRIPTION:Gert Show Oct. 3rd \nOpen Cattle Show- Oct 1-3 \nSwine Showmanship Oct 4th \nSwine Show Oct 5-6 \nHeifer Showmanship Oct 8th \nGoat Show Oct 9-10 \nJunior Heifer Show Oct 9-10 \nTulsa State Fairgrounds – 4145 E 21st St\, Tulsa\, OK 74114
URL:https://www.connorsstate.edu/event/csc-show-team-tulsa-state-fair/
LOCATION:OK
END:VEVENT
BEGIN:VEVENT
DTSTART;VALUE=DATE:20211002
DTEND;VALUE=DATE:20211003
DTSTAMP:20260423T175823
CREATED:20210831T182912Z
LAST-MODIFIED:20210831T182912Z
UID:24745-1633132800-1633219199@www.connorsstate.edu
SUMMARY:CSC Cross Country- Chili Pepper
DESCRIPTION:
URL:https://www.connorsstate.edu/event/csc-cross-country-chili-pepper/
LOCATION:OK
ORGANIZER;CN="Coach Korey Keith":MAILTO:koreywk@connorsstate.edu
END:VEVENT
BEGIN:VEVENT
DTSTART;TZID=America/Chicago:20211002T090000
DTEND;TZID=America/Chicago:20211002T140000
DTSTAMP:20260423T175823
CREATED:20210831T152627Z
LAST-MODIFIED:20210831T152627Z
UID:24649-1633165200-1633183200@www.connorsstate.edu
SUMMARY:Fall Plant Sale
DESCRIPTION:
URL:https://www.connorsstate.edu/event/fall-plant-sale-4/
LOCATION:Green Houses\, 700 College Rd\, Warner\, OK\, 74469\, United States
ORGANIZER;CN="Kara Focht":MAILTO:Kara Focht karall@connorsstate.edu
END:VEVENT
END:VCALENDAR