BEGIN:VCALENDAR
VERSION:2.0
PRODID:-//Connors State College - ECPv6.15.20//NONSGML v1.0//EN
CALSCALE:GREGORIAN
METHOD:PUBLISH
X-ORIGINAL-URL:https://www.connorsstate.edu
X-WR-CALDESC:Events for Connors State College
REFRESH-INTERVAL;VALUE=DURATION:PT1H
X-Robots-Tag:noindex
X-PUBLISHED-TTL:PT1H
BEGIN:VTIMEZONE
TZID:America/Chicago
BEGIN:DAYLIGHT
TZOFFSETFROM:-0600
TZOFFSETTO:-0500
TZNAME:CDT
DTSTART:20200308T080000
END:DAYLIGHT
BEGIN:STANDARD
TZOFFSETFROM:-0500
TZOFFSETTO:-0600
TZNAME:CST
DTSTART:20201101T070000
END:STANDARD
BEGIN:DAYLIGHT
TZOFFSETFROM:-0600
TZOFFSETTO:-0500
TZNAME:CDT
DTSTART:20210314T080000
END:DAYLIGHT
BEGIN:STANDARD
TZOFFSETFROM:-0500
TZOFFSETTO:-0600
TZNAME:CST
DTSTART:20211107T070000
END:STANDARD
BEGIN:DAYLIGHT
TZOFFSETFROM:-0600
TZOFFSETTO:-0500
TZNAME:CDT
DTSTART:20220313T080000
END:DAYLIGHT
BEGIN:STANDARD
TZOFFSETFROM:-0500
TZOFFSETTO:-0600
TZNAME:CST
DTSTART:20221106T070000
END:STANDARD
END:VTIMEZONE
BEGIN:VEVENT
DTSTART;TZID=America/Chicago:20210921T100000
DTEND;TZID=America/Chicago:20210924T180000
DTSTAMP:20260423T175952
CREATED:20210831T152031Z
LAST-MODIFIED:20210831T152031Z
UID:24636-1632218400-1632506400@www.connorsstate.edu
SUMMARY:Fall Plant Sale
DESCRIPTION:Week 1- Fall Plant Sale\nGreenhouse is open form 10 am to 6 pm September 21-24
URL:https://www.connorsstate.edu/event/fall-plant-sale/
LOCATION:Green Houses\, 700 College Rd\, Warner\, OK\, 74469\, United States
END:VEVENT
BEGIN:VEVENT
DTSTART;VALUE=DATE:20210924
DTEND;VALUE=DATE:20210927
DTSTAMP:20260423T175952
CREATED:20210831T183826Z
LAST-MODIFIED:20210831T183826Z
UID:24759-1632441600-1632700799@www.connorsstate.edu
SUMMARY:CSC Shooting Team- State Prairie Circuit
DESCRIPTION:
URL:https://www.connorsstate.edu/event/csc-shooting-team-state-prairie-circuit/
LOCATION:OK
END:VEVENT
BEGIN:VEVENT
DTSTART;TZID=America/Chicago:20210924T080000
DTEND;TZID=America/Chicago:20210924T170000
DTSTAMP:20260423T175952
CREATED:20210524T200458Z
LAST-MODIFIED:20210524T200458Z
UID:23764-1632470400-1632502800@www.connorsstate.edu
SUMMARY:Last Day to Withdraw from 1st 8 Week Class
DESCRIPTION:
URL:https://www.connorsstate.edu/event/last-day-to-withdraw-from-1st-8-week-class/
LOCATION:OK
END:VEVENT
END:VCALENDAR