BEGIN:VCALENDAR
VERSION:2.0
PRODID:-//Connors State College - ECPv6.15.20//NONSGML v1.0//EN
CALSCALE:GREGORIAN
METHOD:PUBLISH
X-WR-CALNAME:Connors State College
X-ORIGINAL-URL:https://www.connorsstate.edu
X-WR-CALDESC:Events for Connors State College
REFRESH-INTERVAL;VALUE=DURATION:PT1H
X-Robots-Tag:noindex
X-PUBLISHED-TTL:PT1H
BEGIN:VTIMEZONE
TZID:America/Chicago
BEGIN:DAYLIGHT
TZOFFSETFROM:-0600
TZOFFSETTO:-0500
TZNAME:CDT
DTSTART:20200308T080000
END:DAYLIGHT
BEGIN:STANDARD
TZOFFSETFROM:-0500
TZOFFSETTO:-0600
TZNAME:CST
DTSTART:20201101T070000
END:STANDARD
BEGIN:DAYLIGHT
TZOFFSETFROM:-0600
TZOFFSETTO:-0500
TZNAME:CDT
DTSTART:20210314T080000
END:DAYLIGHT
BEGIN:STANDARD
TZOFFSETFROM:-0500
TZOFFSETTO:-0600
TZNAME:CST
DTSTART:20211107T070000
END:STANDARD
BEGIN:DAYLIGHT
TZOFFSETFROM:-0600
TZOFFSETTO:-0500
TZNAME:CDT
DTSTART:20220313T080000
END:DAYLIGHT
BEGIN:STANDARD
TZOFFSETFROM:-0500
TZOFFSETTO:-0600
TZNAME:CST
DTSTART:20221106T070000
END:STANDARD
END:VTIMEZONE
BEGIN:VEVENT
DTSTART;TZID=America/Chicago:20210921T100000
DTEND;TZID=America/Chicago:20210924T180000
DTSTAMP:20260423T175820
CREATED:20210831T152031Z
LAST-MODIFIED:20210831T152031Z
UID:24636-1632218400-1632506400@www.connorsstate.edu
SUMMARY:Fall Plant Sale
DESCRIPTION:Week 1- Fall Plant Sale\nGreenhouse is open form 10 am to 6 pm September 21-24
URL:https://www.connorsstate.edu/event/fall-plant-sale/
LOCATION:Green Houses\, 700 College Rd\, Warner\, OK\, 74469\, United States
END:VEVENT
BEGIN:VEVENT
DTSTART;TZID=America/Chicago:20210921T170000
DTEND;TZID=America/Chicago:20210921T190000
DTSTAMP:20260423T175820
CREATED:20210920T153412Z
LAST-MODIFIED:20210920T153412Z
UID:24998-1632243600-1632250800@www.connorsstate.edu
SUMMARY:Oklahoma Challenge
DESCRIPTION:Oklahoma Challenge is open to the community. \nThis will take place in the parking lot of Melvin Self Fieldhouse. \n 
URL:https://www.connorsstate.edu/event/oklahoma-challenge/
LOCATION:Melvin Self Fieldhouse\, 700 College Rd\, Warner\, OK\, 74469\, United States
END:VEVENT
BEGIN:VEVENT
DTSTART;TZID=America/Chicago:20210921T180000
DTEND;TZID=America/Chicago:20210921T200000
DTSTAMP:20260423T175820
CREATED:20210831T151433Z
LAST-MODIFIED:20210831T151433Z
UID:24631-1632247200-1632254400@www.connorsstate.edu
SUMMARY:Aggie Club Luau
DESCRIPTION:Food and Fun \nDirections: \nFrom Corner of College Road and State HWY 2. Go South (right) approximately 6.8 miles. \nTurn right  E243rd St. S/E1110  approximately 2.7 miles to Ranch entrance on left into gate. (Look for CSC Shooting Team Sign) \n  \nIf you have any questions please contact Jesse Henson or Sierra Walker. \nJesse Henson jlhenso@connorsstate.edu & Sierra Walker sierra.re.walker@connorsstate.edu
URL:https://www.connorsstate.edu/event/aggie-club-luau/
LOCATION:Harding South Ranch
END:VEVENT
END:VCALENDAR