BEGIN:VCALENDAR
VERSION:2.0
PRODID:-//Connors State College - ECPv6.15.20//NONSGML v1.0//EN
CALSCALE:GREGORIAN
METHOD:PUBLISH
X-ORIGINAL-URL:https://www.connorsstate.edu
X-WR-CALDESC:Events for Connors State College
REFRESH-INTERVAL;VALUE=DURATION:PT1H
X-Robots-Tag:noindex
X-PUBLISHED-TTL:PT1H
BEGIN:VTIMEZONE
TZID:America/Chicago
BEGIN:DAYLIGHT
TZOFFSETFROM:-0600
TZOFFSETTO:-0500
TZNAME:CDT
DTSTART:20200308T080000
END:DAYLIGHT
BEGIN:STANDARD
TZOFFSETFROM:-0500
TZOFFSETTO:-0600
TZNAME:CST
DTSTART:20201101T070000
END:STANDARD
BEGIN:DAYLIGHT
TZOFFSETFROM:-0600
TZOFFSETTO:-0500
TZNAME:CDT
DTSTART:20210314T080000
END:DAYLIGHT
BEGIN:STANDARD
TZOFFSETFROM:-0500
TZOFFSETTO:-0600
TZNAME:CST
DTSTART:20211107T070000
END:STANDARD
BEGIN:DAYLIGHT
TZOFFSETFROM:-0600
TZOFFSETTO:-0500
TZNAME:CDT
DTSTART:20220313T080000
END:DAYLIGHT
BEGIN:STANDARD
TZOFFSETFROM:-0500
TZOFFSETTO:-0600
TZNAME:CST
DTSTART:20221106T070000
END:STANDARD
END:VTIMEZONE
BEGIN:VEVENT
DTSTART;TZID=America/Chicago:20210901T090000
DTEND;TZID=America/Chicago:20210901T093000
DTSTAMP:20260423T162814
CREATED:20210831T171320Z
LAST-MODIFIED:20210831T171930Z
UID:24707-1630486800-1630488600@www.connorsstate.edu
SUMMARY:Donuts! Donuts! Donuts!
DESCRIPTION:Free Donuts for Students @ 9 am\nGarner Science and NAH buildings
URL:https://www.connorsstate.edu/event/donuts-donuts-donuts/
LOCATION:Muskogee-Port Campus\, 2501 N. 41st Street East\, Muskogee\, 74403\, United States
END:VEVENT
BEGIN:VEVENT
DTSTART;TZID=America/Chicago:20210901T190000
DTEND;TZID=America/Chicago:20210901T210000
DTSTAMP:20260423T162814
CREATED:20210831T171744Z
LAST-MODIFIED:20210831T171822Z
UID:24709-1630522800-1630530000@www.connorsstate.edu
SUMMARY:Volleyball
DESCRIPTION:Bump Set Spike! \nCome join the fun on the sand court behind the Fine Arts Building
URL:https://www.connorsstate.edu/event/volleyball/
LOCATION:Warner Campus\, 700 College Rd\, Warner\, OK\, 74469\, United States
END:VEVENT
END:VCALENDAR