BEGIN:VCALENDAR
VERSION:2.0
PRODID:-//Connors State College - ECPv6.15.20//NONSGML v1.0//EN
CALSCALE:GREGORIAN
METHOD:PUBLISH
X-WR-CALNAME:Connors State College
X-ORIGINAL-URL:https://www.connorsstate.edu
X-WR-CALDESC:Events for Connors State College
REFRESH-INTERVAL;VALUE=DURATION:PT1H
X-Robots-Tag:noindex
X-PUBLISHED-TTL:PT1H
BEGIN:VTIMEZONE
TZID:America/Chicago
BEGIN:DAYLIGHT
TZOFFSETFROM:-0600
TZOFFSETTO:-0500
TZNAME:CDT
DTSTART:20200308T080000
END:DAYLIGHT
BEGIN:STANDARD
TZOFFSETFROM:-0500
TZOFFSETTO:-0600
TZNAME:CST
DTSTART:20201101T070000
END:STANDARD
BEGIN:DAYLIGHT
TZOFFSETFROM:-0600
TZOFFSETTO:-0500
TZNAME:CDT
DTSTART:20210314T080000
END:DAYLIGHT
BEGIN:STANDARD
TZOFFSETFROM:-0500
TZOFFSETTO:-0600
TZNAME:CST
DTSTART:20211107T070000
END:STANDARD
BEGIN:DAYLIGHT
TZOFFSETFROM:-0600
TZOFFSETTO:-0500
TZNAME:CDT
DTSTART:20220313T080000
END:DAYLIGHT
BEGIN:STANDARD
TZOFFSETFROM:-0500
TZOFFSETTO:-0600
TZNAME:CST
DTSTART:20221106T070000
END:STANDARD
END:VTIMEZONE
BEGIN:VEVENT
DTSTART;TZID=America/Chicago:20210417T090000
DTEND;TZID=America/Chicago:20210417T140000
DTSTAMP:20260423T104850
CREATED:20210408T133807Z
LAST-MODIFIED:20210409T184338Z
UID:23464-1618650000-1618668000@www.connorsstate.edu
SUMMARY:CSC Spring Horticulture Plant Sale
DESCRIPTION:
URL:https://www.connorsstate.edu/event/csc-spring-horticulture-plant-sale-3/
LOCATION:Green Houses\, 700 College Rd\, Warner\, OK\, 74469\, United States
END:VEVENT
BEGIN:VEVENT
DTSTART;TZID=America/Chicago:20210417T130000
DTEND;TZID=America/Chicago:20210417T153000
DTSTAMP:20260423T104850
CREATED:20210408T141841Z
LAST-MODIFIED:20210408T141841Z
UID:23508-1618664400-1618673400@www.connorsstate.edu
SUMMARY:CSC Baseball
DESCRIPTION:
URL:https://www.connorsstate.edu/event/csc-baseball-14/
LOCATION:Biff Thompson Field at Perry Keith Park\, 700 College Rd\, Warner\, OK\, 74469\, United States
END:VEVENT
BEGIN:VEVENT
DTSTART;TZID=America/Chicago:20210417T140000
DTEND;TZID=America/Chicago:20210417T180000
DTSTAMP:20260423T104850
CREATED:20210408T141920Z
LAST-MODIFIED:20210408T141920Z
UID:23510-1618668000-1618682400@www.connorsstate.edu
SUMMARY:CSC Softball (DH)
DESCRIPTION:
URL:https://www.connorsstate.edu/event/csc-softball-dh/
LOCATION:Softball Field\, 700 College Rd\, Warner\, OK\, 74469\, United States
END:VEVENT
BEGIN:VEVENT
DTSTART;TZID=America/Chicago:20210417T190000
DTEND;TZID=America/Chicago:20210417T210000
DTSTAMP:20260423T104850
CREATED:20210408T140610Z
LAST-MODIFIED:20210408T140610Z
UID:23492-1618686000-1618693200@www.connorsstate.edu
SUMMARY:PLC Movie Night
DESCRIPTION:
URL:https://www.connorsstate.edu/event/plc-movie-night/
LOCATION:OK
END:VEVENT
END:VCALENDAR