BEGIN:VCALENDAR
VERSION:2.0
PRODID:-//Connors State College - ECPv6.15.20//NONSGML v1.0//EN
CALSCALE:GREGORIAN
METHOD:PUBLISH
X-WR-CALNAME:Connors State College
X-ORIGINAL-URL:https://www.connorsstate.edu
X-WR-CALDESC:Events for Connors State College
REFRESH-INTERVAL;VALUE=DURATION:PT1H
X-Robots-Tag:noindex
X-PUBLISHED-TTL:PT1H
BEGIN:VTIMEZONE
TZID:America/Chicago
BEGIN:DAYLIGHT
TZOFFSETFROM:-0600
TZOFFSETTO:-0500
TZNAME:CDT
DTSTART:20200308T080000
END:DAYLIGHT
BEGIN:STANDARD
TZOFFSETFROM:-0500
TZOFFSETTO:-0600
TZNAME:CST
DTSTART:20201101T070000
END:STANDARD
BEGIN:DAYLIGHT
TZOFFSETFROM:-0600
TZOFFSETTO:-0500
TZNAME:CDT
DTSTART:20210314T080000
END:DAYLIGHT
BEGIN:STANDARD
TZOFFSETFROM:-0500
TZOFFSETTO:-0600
TZNAME:CST
DTSTART:20211107T070000
END:STANDARD
BEGIN:DAYLIGHT
TZOFFSETFROM:-0600
TZOFFSETTO:-0500
TZNAME:CDT
DTSTART:20220313T080000
END:DAYLIGHT
BEGIN:STANDARD
TZOFFSETFROM:-0500
TZOFFSETTO:-0600
TZNAME:CST
DTSTART:20221106T070000
END:STANDARD
END:VTIMEZONE
BEGIN:VEVENT
DTSTART;TZID=America/Chicago:20210413T100000
DTEND;TZID=America/Chicago:20210416T180000
DTSTAMP:20260423T104849
CREATED:20210408T133231Z
LAST-MODIFIED:20210409T184414Z
UID:23459-1618308000-1618596000@www.connorsstate.edu
SUMMARY:CSC Spring Horticulture Plant Sale
DESCRIPTION:
URL:https://www.connorsstate.edu/event/csc-spring-horticulture-plant-sale/
LOCATION:Green Houses\, 700 College Rd\, Warner\, OK\, 74469\, United States
END:VEVENT
BEGIN:VEVENT
DTSTART;TZID=America/Chicago:20210416T090000
DTEND;TZID=America/Chicago:20210416T113000
DTSTAMP:20260423T104849
CREATED:20210408T141750Z
LAST-MODIFIED:20210408T202543Z
UID:23506-1618563600-1618572600@www.connorsstate.edu
SUMMARY:COVID Shots on Warner Campus
DESCRIPTION:
URL:https://www.connorsstate.edu/event/covid-shots-on-warner-campus/
LOCATION:CSC Student Union\, 700 College Rd\, Warner\, OK\, 74469\, United States
END:VEVENT
BEGIN:VEVENT
DTSTART;TZID=America/Chicago:20210416T180000
DTEND;TZID=America/Chicago:20210416T200000
DTSTAMP:20260423T104849
CREATED:20210408T140527Z
LAST-MODIFIED:20210408T140527Z
UID:23489-1618596000-1618603200@www.connorsstate.edu
SUMMARY:Big Hill Quail Forever Chapter Fundraiser Banquet
DESCRIPTION:
URL:https://www.connorsstate.edu/event/big-hill-quail-forever-chapter-fundraiser-banquet/
LOCATION:Ag Hall of Fame\, 700 College Rd\, Warner\, OK\, 74469\, United States
END:VEVENT
END:VCALENDAR