BEGIN:VCALENDAR
VERSION:2.0
PRODID:-//Connors State College - ECPv6.15.20//NONSGML v1.0//EN
CALSCALE:GREGORIAN
METHOD:PUBLISH
X-WR-CALNAME:Connors State College
X-ORIGINAL-URL:https://www.connorsstate.edu
X-WR-CALDESC:Events for Connors State College
REFRESH-INTERVAL;VALUE=DURATION:PT1H
X-Robots-Tag:noindex
X-PUBLISHED-TTL:PT1H
BEGIN:VTIMEZONE
TZID:America/Chicago
BEGIN:DAYLIGHT
TZOFFSETFROM:-0600
TZOFFSETTO:-0500
TZNAME:CDT
DTSTART:20200308T080000
END:DAYLIGHT
BEGIN:STANDARD
TZOFFSETFROM:-0500
TZOFFSETTO:-0600
TZNAME:CST
DTSTART:20201101T070000
END:STANDARD
BEGIN:DAYLIGHT
TZOFFSETFROM:-0600
TZOFFSETTO:-0500
TZNAME:CDT
DTSTART:20210314T080000
END:DAYLIGHT
BEGIN:STANDARD
TZOFFSETFROM:-0500
TZOFFSETTO:-0600
TZNAME:CST
DTSTART:20211107T070000
END:STANDARD
BEGIN:DAYLIGHT
TZOFFSETFROM:-0600
TZOFFSETTO:-0500
TZNAME:CDT
DTSTART:20220313T080000
END:DAYLIGHT
BEGIN:STANDARD
TZOFFSETFROM:-0500
TZOFFSETTO:-0600
TZNAME:CST
DTSTART:20221106T070000
END:STANDARD
END:VTIMEZONE
BEGIN:VEVENT
DTSTART;VALUE=DATE:20210211
DTEND;VALUE=DATE:20210328
DTSTAMP:20260423T092211
CREATED:20210222T174418Z
LAST-MODIFIED:20210222T174418Z
UID:23152-1613001600-1616889599@www.connorsstate.edu
SUMMARY:Business Club Community Coat Drive
DESCRIPTION:
URL:https://www.connorsstate.edu/event/business-club-community-coat-drive/
LOCATION:OK
END:VEVENT
BEGIN:VEVENT
DTSTART;VALUE=DATE:20210315
DTEND;VALUE=DATE:20210320
DTSTAMP:20260423T092211
CREATED:20201117T193546Z
LAST-MODIFIED:20210211T160459Z
UID:21765-1615766400-1616198399@www.connorsstate.edu
SUMMARY:Spring Break
DESCRIPTION:
URL:https://www.connorsstate.edu/event/spring-break/
LOCATION:OK
END:VEVENT
BEGIN:VEVENT
DTSTART;VALUE=DATE:20210319
DTEND;VALUE=DATE:20210321
DTSTAMP:20260423T092211
CREATED:20210203T161905Z
LAST-MODIFIED:20210211T160459Z
UID:22871-1616112000-1616284799@www.connorsstate.edu
SUMMARY:CSC Rodeo Team in Durant
DESCRIPTION:
URL:https://www.connorsstate.edu/event/csc-rodeo-team-in-durant/
LOCATION:OK
END:VEVENT
BEGIN:VEVENT
DTSTART;VALUE=DATE:20210319
DTEND;VALUE=DATE:20210322
DTSTAMP:20260423T092211
CREATED:20210203T161947Z
LAST-MODIFIED:20210211T160459Z
UID:22873-1616112000-1616371199@www.connorsstate.edu
SUMMARY:CSC Shooting Team in Texas
DESCRIPTION:
URL:https://www.connorsstate.edu/event/csc-shooting-team-in-texas/
LOCATION:OK
END:VEVENT
END:VCALENDAR