BEGIN:VCALENDAR
VERSION:2.0
PRODID:-//Connors State College - ECPv6.15.20//NONSGML v1.0//EN
CALSCALE:GREGORIAN
METHOD:PUBLISH
X-ORIGINAL-URL:https://www.connorsstate.edu
X-WR-CALDESC:Events for Connors State College
REFRESH-INTERVAL;VALUE=DURATION:PT1H
X-Robots-Tag:noindex
X-PUBLISHED-TTL:PT1H
BEGIN:VTIMEZONE
TZID:America/Chicago
BEGIN:DAYLIGHT
TZOFFSETFROM:-0600
TZOFFSETTO:-0500
TZNAME:CDT
DTSTART:20200308T080000
END:DAYLIGHT
BEGIN:STANDARD
TZOFFSETFROM:-0500
TZOFFSETTO:-0600
TZNAME:CST
DTSTART:20201101T070000
END:STANDARD
BEGIN:DAYLIGHT
TZOFFSETFROM:-0600
TZOFFSETTO:-0500
TZNAME:CDT
DTSTART:20210314T080000
END:DAYLIGHT
BEGIN:STANDARD
TZOFFSETFROM:-0500
TZOFFSETTO:-0600
TZNAME:CST
DTSTART:20211107T070000
END:STANDARD
BEGIN:DAYLIGHT
TZOFFSETFROM:-0600
TZOFFSETTO:-0500
TZNAME:CDT
DTSTART:20220313T080000
END:DAYLIGHT
BEGIN:STANDARD
TZOFFSETFROM:-0500
TZOFFSETTO:-0600
TZNAME:CST
DTSTART:20221106T070000
END:STANDARD
END:VTIMEZONE
BEGIN:VEVENT
DTSTART;VALUE=DATE:20210211
DTEND;VALUE=DATE:20210328
DTSTAMP:20260423T092359
CREATED:20210222T174418Z
LAST-MODIFIED:20210222T174418Z
UID:23152-1613001600-1616889599@www.connorsstate.edu
SUMMARY:Business Club Community Coat Drive
DESCRIPTION:
URL:https://www.connorsstate.edu/event/business-club-community-coat-drive/
LOCATION:OK
END:VEVENT
BEGIN:VEVENT
DTSTART;VALUE=DATE:20210312
DTEND;VALUE=DATE:20210313
DTSTAMP:20260423T092359
CREATED:20201117T204357Z
LAST-MODIFIED:20210211T160459Z
UID:21804-1615507200-1615593599@www.connorsstate.edu
SUMMARY:Last Day to Enroll or Add Classes for 2nd 8 Weeks
DESCRIPTION:
URL:https://www.connorsstate.edu/event/last-day-to-enroll-or-add-classes-for-2nd-8-weeks/
LOCATION:OK
END:VEVENT
BEGIN:VEVENT
DTSTART;VALUE=DATE:20210312
DTEND;VALUE=DATE:20210313
DTSTAMP:20260423T092359
CREATED:20201117T204526Z
LAST-MODIFIED:20210211T160459Z
UID:21806-1615507200-1615593599@www.connorsstate.edu
SUMMARY:Last Day to Drop a Course Without a Transcript Record and Receive a 100% Refund (2nd 8 weeks)
DESCRIPTION:
URL:https://www.connorsstate.edu/event/last-day-to-drop-a-course-without-a-transcript-record-and-receive-a-100-refund-2nd-8-weeks/
LOCATION:OK
END:VEVENT
BEGIN:VEVENT
DTSTART;VALUE=DATE:20210312
DTEND;VALUE=DATE:20210315
DTSTAMP:20260423T092359
CREATED:20210203T160325Z
LAST-MODIFIED:20210211T160459Z
UID:22855-1615507200-1615766399@www.connorsstate.edu
SUMMARY:CSC Rodeo Team in Kansas
DESCRIPTION:
URL:https://www.connorsstate.edu/event/csc-rodeo-team-in-kansas/
LOCATION:OK
END:VEVENT
END:VCALENDAR