BEGIN:VCALENDAR
VERSION:2.0
PRODID:-//Connors State College - ECPv6.15.20//NONSGML v1.0//EN
CALSCALE:GREGORIAN
METHOD:PUBLISH
X-WR-CALNAME:Connors State College
X-ORIGINAL-URL:https://www.connorsstate.edu
X-WR-CALDESC:Events for Connors State College
REFRESH-INTERVAL;VALUE=DURATION:PT1H
X-Robots-Tag:noindex
X-PUBLISHED-TTL:PT1H
BEGIN:VTIMEZONE
TZID:America/Chicago
BEGIN:DAYLIGHT
TZOFFSETFROM:-0600
TZOFFSETTO:-0500
TZNAME:CDT
DTSTART:20200308T080000
END:DAYLIGHT
BEGIN:STANDARD
TZOFFSETFROM:-0500
TZOFFSETTO:-0600
TZNAME:CST
DTSTART:20201101T070000
END:STANDARD
BEGIN:DAYLIGHT
TZOFFSETFROM:-0600
TZOFFSETTO:-0500
TZNAME:CDT
DTSTART:20210314T080000
END:DAYLIGHT
BEGIN:STANDARD
TZOFFSETFROM:-0500
TZOFFSETTO:-0600
TZNAME:CST
DTSTART:20211107T070000
END:STANDARD
BEGIN:DAYLIGHT
TZOFFSETFROM:-0600
TZOFFSETTO:-0500
TZNAME:CDT
DTSTART:20220313T080000
END:DAYLIGHT
BEGIN:STANDARD
TZOFFSETFROM:-0500
TZOFFSETTO:-0600
TZNAME:CST
DTSTART:20221106T070000
END:STANDARD
END:VTIMEZONE
BEGIN:VEVENT
DTSTART;VALUE=DATE:20210211
DTEND;VALUE=DATE:20210328
DTSTAMP:20260423T092210
CREATED:20210222T174418Z
LAST-MODIFIED:20210222T174418Z
UID:23152-1613001600-1616889599@www.connorsstate.edu
SUMMARY:Business Club Community Coat Drive
DESCRIPTION:
URL:https://www.connorsstate.edu/event/business-club-community-coat-drive/
LOCATION:OK
END:VEVENT
BEGIN:VEVENT
DTSTART;TZID=America/Chicago:20210311T140000
DTEND;TZID=America/Chicago:20210311T180000
DTSTAMP:20260423T092210
CREATED:20210209T165856Z
LAST-MODIFIED:20210211T160508Z
UID:22994-1615471200-1615485600@www.connorsstate.edu
SUMMARY:CSC Softball
DESCRIPTION:
URL:https://www.connorsstate.edu/event/csc-softball-5/
LOCATION:Softball Field\, 700 College Rd\, Warner\, OK\, 74469\, United States
END:VEVENT
BEGIN:VEVENT
DTSTART;TZID=America/Chicago:20210311T173000
DTEND;TZID=America/Chicago:20210311T193000
DTSTAMP:20260423T092210
CREATED:20210203T160118Z
LAST-MODIFIED:20210211T160459Z
UID:22851-1615483800-1615491000@www.connorsstate.edu
SUMMARY:CSC Women's Basketball
DESCRIPTION:
URL:https://www.connorsstate.edu/event/csc-womens-basketball/
LOCATION:Melvin Self Fieldhouse\, 700 College Rd\, Warner\, OK\, 74469\, United States
END:VEVENT
BEGIN:VEVENT
DTSTART;TZID=America/Chicago:20210311T193000
DTEND;TZID=America/Chicago:20210311T213000
DTSTAMP:20260423T092210
CREATED:20210203T160152Z
LAST-MODIFIED:20210211T160459Z
UID:22853-1615491000-1615498200@www.connorsstate.edu
SUMMARY:CSC Men's Basketball
DESCRIPTION:
URL:https://www.connorsstate.edu/event/csc-mens-basketball/
LOCATION:Melvin Self Fieldhouse\, 700 College Rd\, Warner\, OK\, 74469\, United States
END:VEVENT
BEGIN:VEVENT
DTSTART;TZID=America/Chicago:20210311T201500
DTEND;TZID=America/Chicago:20210311T203000
DTSTAMP:20260423T092210
CREATED:20210214T221245Z
LAST-MODIFIED:20210214T221245Z
UID:23107-1615493700-1615494600@www.connorsstate.edu
SUMMARY:CSC Homecoming
DESCRIPTION:Homecoming will take place during half time during the Men’s Basketball game.
URL:https://www.connorsstate.edu/event/csc-homecoming/
LOCATION:Melvin Self Fieldhouse\, 700 College Rd\, Warner\, OK\, 74469\, United States
END:VEVENT
END:VCALENDAR