BEGIN:VCALENDAR
VERSION:2.0
PRODID:-//Connors State College - ECPv6.15.20//NONSGML v1.0//EN
CALSCALE:GREGORIAN
METHOD:PUBLISH
X-WR-CALNAME:Connors State College
X-ORIGINAL-URL:https://www.connorsstate.edu
X-WR-CALDESC:Events for Connors State College
REFRESH-INTERVAL;VALUE=DURATION:PT1H
X-Robots-Tag:noindex
X-PUBLISHED-TTL:PT1H
BEGIN:VTIMEZONE
TZID:America/Chicago
BEGIN:DAYLIGHT
TZOFFSETFROM:-0600
TZOFFSETTO:-0500
TZNAME:CDT
DTSTART:20200308T080000
END:DAYLIGHT
BEGIN:STANDARD
TZOFFSETFROM:-0500
TZOFFSETTO:-0600
TZNAME:CST
DTSTART:20201101T070000
END:STANDARD
BEGIN:DAYLIGHT
TZOFFSETFROM:-0600
TZOFFSETTO:-0500
TZNAME:CDT
DTSTART:20210314T080000
END:DAYLIGHT
BEGIN:STANDARD
TZOFFSETFROM:-0500
TZOFFSETTO:-0600
TZNAME:CST
DTSTART:20211107T070000
END:STANDARD
BEGIN:DAYLIGHT
TZOFFSETFROM:-0600
TZOFFSETTO:-0500
TZNAME:CDT
DTSTART:20220313T080000
END:DAYLIGHT
BEGIN:STANDARD
TZOFFSETFROM:-0500
TZOFFSETTO:-0600
TZNAME:CST
DTSTART:20221106T070000
END:STANDARD
END:VTIMEZONE
BEGIN:VEVENT
DTSTART;VALUE=DATE:20210211
DTEND;VALUE=DATE:20210328
DTSTAMP:20260423T075015
CREATED:20210222T174418Z
LAST-MODIFIED:20210222T174418Z
UID:23152-1613001600-1616889599@www.connorsstate.edu
SUMMARY:Business Club Community Coat Drive
DESCRIPTION:
URL:https://www.connorsstate.edu/event/business-club-community-coat-drive/
LOCATION:OK
END:VEVENT
BEGIN:VEVENT
DTSTART;TZID=America/Chicago:20210216T080000
DTEND;TZID=America/Chicago:20210216T170000
DTSTAMP:20260423T075015
CREATED:20210202T230211Z
LAST-MODIFIED:20210216T164520Z
UID:22741-1613462400-1613494800@www.connorsstate.edu
SUMMARY:Higher Ed Day- Virtual/Postponed
DESCRIPTION:
URL:https://www.connorsstate.edu/event/higher-ed-day-virtual/
LOCATION:OK
END:VEVENT
BEGIN:VEVENT
DTSTART;TZID=America/Chicago:20210216T183000
DTEND;TZID=America/Chicago:20210216T203000
DTSTAMP:20260423T075015
CREATED:20210208T221832Z
LAST-MODIFIED:20210216T164552Z
UID:22992-1613500200-1613507400@www.connorsstate.edu
SUMMARY:Women's Self Defense Class/Postponed
DESCRIPTION:
URL:https://www.connorsstate.edu/event/womens-self-defense-class/
LOCATION:Fine Arts Auditorium\, 700 College Rd\, Warner\, OK\, 74469\, United States
END:VEVENT
END:VCALENDAR