BEGIN:VCALENDAR
VERSION:2.0
PRODID:-//Connors State College - ECPv6.15.20//NONSGML v1.0//EN
CALSCALE:GREGORIAN
METHOD:PUBLISH
X-WR-CALNAME:Connors State College
X-ORIGINAL-URL:https://www.connorsstate.edu
X-WR-CALDESC:Events for Connors State College
REFRESH-INTERVAL;VALUE=DURATION:PT1H
X-Robots-Tag:noindex
X-PUBLISHED-TTL:PT1H
BEGIN:VTIMEZONE
TZID:America/Chicago
BEGIN:DAYLIGHT
TZOFFSETFROM:-0600
TZOFFSETTO:-0500
TZNAME:CDT
DTSTART:20190310T080000
END:DAYLIGHT
BEGIN:STANDARD
TZOFFSETFROM:-0500
TZOFFSETTO:-0600
TZNAME:CST
DTSTART:20191103T070000
END:STANDARD
BEGIN:DAYLIGHT
TZOFFSETFROM:-0600
TZOFFSETTO:-0500
TZNAME:CDT
DTSTART:20200308T080000
END:DAYLIGHT
BEGIN:STANDARD
TZOFFSETFROM:-0500
TZOFFSETTO:-0600
TZNAME:CST
DTSTART:20201101T070000
END:STANDARD
BEGIN:DAYLIGHT
TZOFFSETFROM:-0600
TZOFFSETTO:-0500
TZNAME:CDT
DTSTART:20210314T080000
END:DAYLIGHT
BEGIN:STANDARD
TZOFFSETFROM:-0500
TZOFFSETTO:-0600
TZNAME:CST
DTSTART:20211107T070000
END:STANDARD
END:VTIMEZONE
BEGIN:VEVENT
DTSTART;VALUE=DATE:20200124
DTEND;VALUE=DATE:20200125
DTSTAMP:20260422T170637
CREATED:20200128T215705Z
LAST-MODIFIED:20210211T160555Z
UID:18640-1579824000-1579910399@www.connorsstate.edu
SUMMARY:Last Day to Enroll or Add Classes (Full Semester)
DESCRIPTION:
URL:https://www.connorsstate.edu/event/last-day-to-enroll-or-add-classes-full-semester/
LOCATION:OK
END:VEVENT
BEGIN:VEVENT
DTSTART;VALUE=DATE:20200124
DTEND;VALUE=DATE:20200125
DTSTAMP:20260422T170637
CREATED:20200128T220014Z
LAST-MODIFIED:20210211T160555Z
UID:18642-1579824000-1579910399@www.connorsstate.edu
SUMMARY:Last Day to Drop a Course Without a Transcript and Receive a 100% Refund
DESCRIPTION:
URL:https://www.connorsstate.edu/event/last-day-to-drop-a-course-without-a-transcript-and-recieve-a-100-refund/
LOCATION:OK
END:VEVENT
BEGIN:VEVENT
DTSTART;VALUE=DATE:20200124
DTEND;VALUE=DATE:20200125
DTSTAMP:20260422T170637
CREATED:20200128T220146Z
LAST-MODIFIED:20210211T160555Z
UID:18644-1579824000-1579910399@www.connorsstate.edu
SUMMARY:Last Day to Withdraw Completely from the College and Receive a 100% Refund
DESCRIPTION:
URL:https://www.connorsstate.edu/event/last-day-to-withdraw-completely-from-the-college-and-recieve-a-100-refund/
LOCATION:OK
END:VEVENT
END:VCALENDAR