BEGIN:VCALENDAR
VERSION:2.0
PRODID:-//Connors State College - ECPv6.15.20//NONSGML v1.0//EN
CALSCALE:GREGORIAN
METHOD:PUBLISH
X-WR-CALNAME:Connors State College
X-ORIGINAL-URL:https://www.connorsstate.edu
X-WR-CALDESC:Events for Connors State College
REFRESH-INTERVAL;VALUE=DURATION:PT1H
X-Robots-Tag:noindex
X-PUBLISHED-TTL:PT1H
BEGIN:VTIMEZONE
TZID:America/Chicago
BEGIN:DAYLIGHT
TZOFFSETFROM:-0600
TZOFFSETTO:-0500
TZNAME:CDT
DTSTART:20180311T080000
END:DAYLIGHT
BEGIN:STANDARD
TZOFFSETFROM:-0500
TZOFFSETTO:-0600
TZNAME:CST
DTSTART:20181104T070000
END:STANDARD
BEGIN:DAYLIGHT
TZOFFSETFROM:-0600
TZOFFSETTO:-0500
TZNAME:CDT
DTSTART:20190310T080000
END:DAYLIGHT
BEGIN:STANDARD
TZOFFSETFROM:-0500
TZOFFSETTO:-0600
TZNAME:CST
DTSTART:20191103T070000
END:STANDARD
BEGIN:DAYLIGHT
TZOFFSETFROM:-0600
TZOFFSETTO:-0500
TZNAME:CDT
DTSTART:20200308T080000
END:DAYLIGHT
BEGIN:STANDARD
TZOFFSETFROM:-0500
TZOFFSETTO:-0600
TZNAME:CST
DTSTART:20201101T070000
END:STANDARD
END:VTIMEZONE
BEGIN:VEVENT
DTSTART;TZID=America/Chicago:20191118T093000
DTEND;TZID=America/Chicago:20191118T113000
DTSTAMP:20260422T195519
CREATED:20191029T185420Z
LAST-MODIFIED:20210211T160607Z
UID:18224-1574069400-1574076600@www.connorsstate.edu
SUMMARY:Muskogee Munch & Mingle/S.U. Cafeteria -Warner
DESCRIPTION:
URL:https://www.connorsstate.edu/event/muskogee-munch-mingle-s-u-cafeteria-warner/
LOCATION:OK
END:VEVENT
BEGIN:VEVENT
DTSTART;TZID=America/Chicago:20191118T140000
DTEND;TZID=America/Chicago:20191118T170000
DTSTAMP:20260422T195519
CREATED:20191029T185634Z
LAST-MODIFIED:20210211T160607Z
UID:18227-1574085600-1574096400@www.connorsstate.edu
SUMMARY:Threat Assessment Team Meeting/President's Conf Rm -Warner
DESCRIPTION:
URL:https://www.connorsstate.edu/event/threat-assessment-team-meeting-presidents-conf-rm-warner/
LOCATION:OK
END:VEVENT
BEGIN:VEVENT
DTSTART;TZID=America/Chicago:20191118T173000
DTEND;TZID=America/Chicago:20191118T220000
DTSTAMP:20260422T195519
CREATED:20191029T185820Z
LAST-MODIFIED:20210211T160607Z
UID:18229-1574098200-1574114400@www.connorsstate.edu
SUMMARY:CSC Women's Basketball vs. Missouri Southern JV/Civic Center -Muskogee
DESCRIPTION:
URL:https://www.connorsstate.edu/event/csc-womens-basketball-vs-missouri-southern-jv-civic-center-muskogee/
LOCATION:OK
END:VEVENT
BEGIN:VEVENT
DTSTART;TZID=America/Chicago:20191118T190000
DTEND;TZID=America/Chicago:20191118T223000
DTSTAMP:20260422T195519
CREATED:20191029T185925Z
LAST-MODIFIED:20210211T160607Z
UID:18231-1574103600-1574116200@www.connorsstate.edu
SUMMARY:CSC Men's Basketball vs. Mid-America Christian/Civic Center -Muskogee
DESCRIPTION:
URL:https://www.connorsstate.edu/event/csc-mens-basketball-vs-mid-america-christian-civic-center-muskogee/
LOCATION:OK
END:VEVENT
END:VCALENDAR